Workbook

Sheet Лист1
A1: Медицинская организация | B1: Организация работы МО | C1: Запись к врачам | D1: Оформление документов | E1: Диспансеризация/Реабилитация | F1: Долгое ожидание обследования | G1: Качество оказания МП | H1: Отказ в оказании МП | I1: Недоступность информации | J1: Этика и деонтология | K1: Транспортная доступность | L1: Ремонт/Строительство | M1: Оборудование | N1: Лекарственное обеспечение | O1: ВМП | P1: Кадры | Q1: Благодарности | R1: Другое | S1: Итого
A4: ГБУЗС «Городская больница № 1 им. Н.И. Пирогова» | B4: =SUM('[1]Организация работы МО'!BC4,'[1]Организация работы МО'!BH4,'[1]Организация работы МО'!BM4) -> 34 | C4: =SUM('[1]Запись к врачам'!BC4,'[1]Запись к врачам'!BH4,'[1]Запись к врачам'!BM4) -> 6 | D4: =SUM('[1]Оформление док-ов'!BC4,'[1]Оформление док-ов'!BH4,'[1]Оформление док-ов'!BM4) -> 5 | E4: =SUM('[1]Диспан-ия-Реаб-ия'!BC4,'[1]Диспан-ия-Реаб-ия'!BH4,'[1]Диспан-ия-Реаб-ия'!BM4) -> 1 | F4: =SUM('[1]Долгое ожидание обслед-ий'!BC4,'[1]Долгое ожидание обслед-ий'!BH4,'[1]Долгое ожидание обслед-ий'!BM4) -> 7 | G4: =SUM('[1]Качество оказания мед. пом.'!BC4,'[1]Качество оказания мед. пом.'!BH4,'[1]Качество оказания мед. пом.'!BM4) -> 15 | H4: =SUM('[1]Отказ в оказ. мед. пом.'!BC4,'[1]Отказ в оказ. мед. пом.'!BH4,'[1]Отказ в оказ. мед. пом.'!BM4) -> 7 | I4: =SUM('[1]Недостат. инфы'!BC4,'[1]Недостат. инфы'!BH4,'[1]Недостат. инфы'!BM4) -> 0 | J4: =SUM('[1]Этика и деонтология'!BC4,'[1]Этика и деонтология'!BH4,'[1]Этика и деонтология'!BM4) -> 4 | K4: 0 | L4: =SUM('[1]Ремонт. Стройка'!BC4,'[1]Ремонт. Стройка'!BH4,'[1]Ремонт. Стройка'!BM4) -> 1 | M4: =SUM([1]Оборудование!BC4,[1]Оборудование!BH4,[1]Оборудование!BM4) -> 0 | N4: =SUM('[1]Лекарственное обеспечение'!BC4,'[1]Лекарственное обеспечение'!BH4,'[1]Лекарственное обеспечение'!BM4) -> 2 | O4: =SUM([1]ВМП!BC4,[1]ВМП!BH4,[1]ВМП!BM4) -> 0 | P4: =SUM('[1]Кадры '!BC4,'[1]Кадры '!BH4,'[1]Кадры '!BM4) -> 0 | Q4: =SUM([1]Благодарности!BC4,[1]Благодарности!BH4,[1]Благодарности!BM4) -> 6 | R4: =SUM([1]Другое!BC4,[1]Другое!BH4,[1]Другое!BM4) -> 4 | S4: =SUM(B4:R4) -> 92
A5: ГБУЗС «ГБ № 1» Филиал 1 | B5: =SUM('[1]Организация работы МО'!BC5,'[1]Организация работы МО'!BH5,'[1]Организация работы МО'!BM5) -> 8 | C5: =SUM('[1]Запись к врачам'!BC5,'[1]Запись к врачам'!BH5,'[1]Запись к врачам'!BM5) -> 4 | D5: =SUM('[1]Оформление док-ов'!BC5,'[1]Оформление док-ов'!BH5,'[1]Оформление док-ов'!BM5) -> 0 | E5: =SUM('[1]Диспан-ия-Реаб-ия'!BC5,'[1]Диспан-ия-Реаб-ия'!BH5,'[1]Диспан-ия-Реаб-ия'!BM5) -> 1 | F5: =SUM('[1]Долгое ожидание обслед-ий'!BC5,'[1]Долгое ожидание обслед-ий'!BH5,'[1]Долгое ожидание обслед-ий'!BM5) -> 0 | G5: =SUM('[1]Качество оказания мед. пом.'!BC5,'[1]Качество оказания мед. пом.'!BH5,'[1]Качество оказания мед. пом.'!BM5) -> 0 | H5: =SUM('[1]Отказ в оказ. мед. пом.'!BC5,'[1]Отказ в оказ. мед. пом.'!BH5,'[1]Отказ в оказ. мед. пом.'!BM5) -> 2 | I5: =SUM('[1]Недостат. инфы'!BC5,'[1]Недостат. инфы'!BH5,'[1]Недостат. инфы'!BM5) -> 1 | J5: =SUM('[1]Этика и деонтология'!BC5,'[1]Этика и деонтология'!BH5,'[1]Этика и деонтология'!BM5) -> 1 | K5: 0 | L5: =SUM('[1]Ремонт. Стройка'!BC5,'[1]Ремонт. Стройка'!BH5,'[1]Ремонт. Стройка'!BM5) -> 0 | M5: =SUM([1]Оборудование!BC5,[1]Оборудование!BH5,[1]Оборудование!BM5) -> 0 | N5: =SUM('[1]Лекарственное обеспечение'!BC5,'[1]Лекарственное обеспечение'!BH5,'[1]Лекарственное обеспечение'!BM5) -> 1 | O5: =SUM([1]ВМП!BC5,[1]ВМП!BH5,[1]ВМП!BM5) -> 0 | P5: =SUM('[1]Кадры '!BC5,'[1]Кадры '!BH5,'[1]Кадры '!BM5) -> 0 | Q5: =SUM([1]Благодарности!BC5,[1]Благодарности!BH5,[1]Благодарности!BM5) -> 0 | R5: =SUM([1]Другое!BC5,[1]Другое!BH5,[1]Другое!BM5) -> 0 | S5: =SUM(B5:R5) -> 18
A6: ГБУЗС «Гб № 1» Филиал 2 | B6: =SUM('[1]Организация работы МО'!BC6,'[1]Организация работы МО'!BH6,'[1]Организация работы МО'!BM6) -> 6 | C6: =SUM('[1]Запись к врачам'!BC6,'[1]Запись к врачам'!BH6,'[1]Запись к врачам'!BM6) -> 2 | D6: =SUM('[1]Оформление док-ов'!BC6,'[1]Оформление док-ов'!BH6,'[1]Оформление док-ов'!BM6) -> 0 | E6: =SUM('[1]Диспан-ия-Реаб-ия'!BC6,'[1]Диспан-ия-Реаб-ия'!BH6,'[1]Диспан-ия-Реаб-ия'!BM6) -> 0 | F6: =SUM('[1]Долгое ожидание обслед-ий'!BC6,'[1]Долгое ожидание обслед-ий'!BH6,'[1]Долгое ожидание обслед-ий'!BM6) -> 0 | G6: =SUM('[1]Качество оказания мед. пом.'!BC6,'[1]Качество оказания мед. пом.'!BH6,'[1]Качество оказания мед. пом.'!BM6) -> 1 | H6: =SUM('[1]Отказ в оказ. мед. пом.'!BC6,'[1]Отказ в оказ. мед. пом.'!BH6,'[1]Отказ в оказ. мед. пом.'!BM6) -> 0 | I6: =SUM('[1]Недостат. инфы'!BC6,'[1]Недостат. инфы'!BH6,'[1]Недостат. инфы'!BM6) -> 0 | J6: =SUM('[1]Этика и деонтология'!BC6,'[1]Этика и деонтология'!BH6,'[1]Этика и деонтология'!BM6) -> 0 | K6: 0 | L6: =SUM('[1]Ремонт. Стройка'!BC6,'[1]Ремонт. Стройка'!BH6,'[1]Ремонт. Стройка'!BM6) -> 0 | M6: =SUM([1]Оборудование!BC6,[1]Оборудование!BH6,[1]Оборудование!BM6) -> 0 | N6: =SUM('[1]Лекарственное обеспечение'!BC6,'[1]Лекарственное обеспечение'!BH6,'[1]Лекарственное обеспечение'!BM6) -> 2 | O6: =SUM([1]ВМП!BC6,[1]ВМП!BH6,[1]ВМП!BM6) -> 0 | P6: =SUM('[1]Кадры '!BC6,'[1]Кадры '!BH6,'[1]Кадры '!BM6) -> 0 | Q6: =SUM([1]Благодарности!BC6,[1]Благодарности!BH6,[1]Благодарности!BM6) -> 1 | R6: =SUM([1]Другое!BC6,[1]Другое!BH6,[1]Другое!BM6) -> 1 | S6: =SUM(B6:R6) -> 13
A7: ГБУЗС «Городская больница № 4» | B7: =SUM('[1]Организация работы МО'!BC7,'[1]Организация работы МО'!BH7,'[1]Организация работы МО'!BM7) -> 7 | C7: =SUM('[1]Запись к врачам'!BC7,'[1]Запись к врачам'!BH7,'[1]Запись к врачам'!BM7) -> 0 | D7: =SUM('[1]Оформление док-ов'!BC7,'[1]Оформление док-ов'!BH7,'[1]Оформление док-ов'!BM7) -> 0 | E7: =SUM('[1]Диспан-ия-Реаб-ия'!BC7,'[1]Диспан-ия-Реаб-ия'!BH7,'[1]Диспан-ия-Реаб-ия'!BM7) -> 3 | F7: =SUM('[1]Долгое ожидание обслед-ий'!BC7,'[1]Долгое ожидание обслед-ий'!BH7,'[1]Долгое ожидание обслед-ий'!BM7) -> 0 | G7: =SUM('[1]Качество оказания мед. пом.'!BC7,'[1]Качество оказания мед. пом.'!BH7,'[1]Качество оказания мед. пом.'!BM7) -> 2 | H7: =SUM('[1]Отказ в оказ. мед. пом.'!BC7,'[1]Отказ в оказ. мед. пом.'!BH7,'[1]Отказ в оказ. мед. пом.'!BM7) -> 1 | I7: =SUM('[1]Недостат. инфы'!BC7,'[1]Недостат. инфы'!BH7,'[1]Недостат. инфы'!BM7) -> 0 | J7: =SUM('[1]Этика и деонтология'!BC7,'[1]Этика и деонтология'!BH7,'[1]Этика и деонтология'!BM7) -> 0 | K7: 0 | L7: =SUM('[1]Ремонт. Стройка'!BC7,'[1]Ремонт. Стройка'!BH7,'[1]Ремонт. Стройка'!BM7) -> 0 | M7: =SUM([1]Оборудование!BC7,[1]Оборудование!BH7,[1]Оборудование!BM7) -> 0 | N7: =SUM('[1]Лекарственное обеспечение'!BC7,'[1]Лекарственное обеспечение'!BH7,'[1]Лекарственное обеспечение'!BM7) -> 0 | O7: =SUM([1]ВМП!BC7,[1]ВМП!BH7,[1]ВМП!BM7) -> 0 | P7: =SUM('[1]Кадры '!BC7,'[1]Кадры '!BH7,'[1]Кадры '!BM7) -> 2 | Q7: =SUM([1]Благодарности!BC7,[1]Благодарности!BH7,[1]Благодарности!BM7) -> 2 | R7: =SUM([1]Другое!BC7,[1]Другое!BH7,[1]Другое!BM7) -> 1 | S7: =SUM(B7:R7) -> 18
A8: ГБУЗС «Городская больница № 5 – «Центр охраны здоровья матери и ребенка» | B8: =SUM('[1]Организация работы МО'!BC8,'[1]Организация работы МО'!BH8,'[1]Организация работы МО'!BM8) -> 24 | C8: =SUM('[1]Запись к врачам'!BC8,'[1]Запись к врачам'!BH8,'[1]Запись к врачам'!BM8) -> 1 | D8: =SUM('[1]Оформление док-ов'!BC8,'[1]Оформление док-ов'!BH8,'[1]Оформление док-ов'!BM8) -> 2 | E8: =SUM('[1]Диспан-ия-Реаб-ия'!BC8,'[1]Диспан-ия-Реаб-ия'!BH8,'[1]Диспан-ия-Реаб-ия'!BM8) -> 0 | F8: =SUM('[1]Долгое ожидание обслед-ий'!BC8,'[1]Долгое ожидание обслед-ий'!BH8,'[1]Долгое ожидание обслед-ий'!BM8) -> 0 | G8: =SUM('[1]Качество оказания мед. пом.'!BC8,'[1]Качество оказания мед. пом.'!BH8,'[1]Качество оказания мед. пом.'!BM8) -> 4 | H8: =SUM('[1]Отказ в оказ. мед. пом.'!BC8,'[1]Отказ в оказ. мед. пом.'!BH8,'[1]Отказ в оказ. мед. пом.'!BM8) -> 6 | I8: =SUM('[1]Недостат. инфы'!BC8,'[1]Недостат. инфы'!BH8,'[1]Недостат. инфы'!BM8) -> 0 | J8: =SUM('[1]Этика и деонтология'!BC8,'[1]Этика и деонтология'!BH8,'[1]Этика и деонтология'!BM8) -> 1 | K8: 0 | L8: =SUM('[1]Ремонт. Стройка'!BC8,'[1]Ремонт. Стройка'!BH8,'[1]Ремонт. Стройка'!BM8) -> 0 | M8: =SUM([1]Оборудование!BC8,[1]Оборудование!BH8,[1]Оборудование!BM8) -> 0 | N8: =SUM('[1]Лекарственное обеспечение'!BC8,'[1]Лекарственное обеспечение'!BH8,'[1]Лекарственное обеспечение'!BM8) -> 3 | O8: =SUM([1]ВМП!BC8,[1]ВМП!BH8,[1]ВМП!BM8) -> 0 | P8: =SUM('[1]Кадры '!BC8,'[1]Кадры '!BH8,'[1]Кадры '!BM8) -> 0 | Q8: =SUM([1]Благодарности!BC8,[1]Благодарности!BH8,[1]Благодарности!BM8) -> 2 | R8: =SUM([1]Другое!BC8,[1]Другое!BH8,[1]Другое!BM8) -> 6 | S8: =SUM(B8:R8) -> 49
A9: ГБУЗС "Севастопольская городская больница № 9" | B9: =SUM('[1]Организация работы МО'!BC9,'[1]Организация работы МО'!BH9,'[1]Организация работы МО'!BM9) -> 18 | C9: =SUM('[1]Запись к врачам'!BC9,'[1]Запись к врачам'!BH9,'[1]Запись к врачам'!BM9) -> 3 | D9: =SUM('[1]Оформление док-ов'!BC9,'[1]Оформление док-ов'!BH9,'[1]Оформление док-ов'!BM9) -> 0 | E9: =SUM('[1]Диспан-ия-Реаб-ия'!BC9,'[1]Диспан-ия-Реаб-ия'!BH9,'[1]Диспан-ия-Реаб-ия'!BM9) -> 4 | F9: =SUM('[1]Долгое ожидание обслед-ий'!BC9,'[1]Долгое ожидание обслед-ий'!BH9,'[1]Долгое ожидание обслед-ий'!BM9) -> 0 | G9: =SUM('[1]Качество оказания мед. пом.'!BC9,'[1]Качество оказания мед. пом.'!BH9,'[1]Качество оказания мед. пом.'!BM9) -> 1 | H9: =SUM('[1]Отказ в оказ. мед. пом.'!BC9,'[1]Отказ в оказ. мед. пом.'!BH9,'[1]Отказ в оказ. мед. пом.'!BM9) -> 1 | I9: =SUM('[1]Недостат. инфы'!BC9,'[1]Недостат. инфы'!BH9,'[1]Недостат. инфы'!BM9) -> 0 | J9: =SUM('[1]Этика и деонтология'!BC9,'[1]Этика и деонтология'!BH9,'[1]Этика и деонтология'!BM9) -> 0 | K9: 0 | L9: =SUM('[1]Ремонт. Стройка'!BC9,'[1]Ремонт. Стройка'!BH9,'[1]Ремонт. Стройка'!BM9) -> 0 | M9: =SUM([1]Оборудование!BC9,[1]Оборудование!BH9,[1]Оборудование!BM9) -> 0 | N9: =SUM('[1]Лекарственное обеспечение'!BC9,'[1]Лекарственное обеспечение'!BH9,'[1]Лекарственное обеспечение'!BM9) -> 2 | O9: =SUM([1]ВМП!BC9,[1]ВМП!BH9,[1]ВМП!BM9) -> 0 | P9: =SUM('[1]Кадры '!BC9,'[1]Кадры '!BH9,'[1]Кадры '!BM9) -> 0 | Q9: =SUM([1]Благодарности!BC9,[1]Благодарности!BH9,[1]Благодарности!BM9) -> 6 | R9: =SUM([1]Другое!BC9,[1]Другое!BH9,[1]Другое!BM9) -> 2 | S9: =SUM(B9:R9) -> 37
A10: ГБУЗС "Городская инфекционная больница" | B10: =SUM('[1]Организация работы МО'!BC10,'[1]Организация работы МО'!BH10,'[1]Организация работы МО'!BM10) -> 4 | C10: =SUM('[1]Запись к врачам'!BC10,'[1]Запись к врачам'!BH10,'[1]Запись к врачам'!BM10) -> 0 | D10: =SUM('[1]Оформление док-ов'!BC10,'[1]Оформление док-ов'!BH10,'[1]Оформление док-ов'!BM10) -> 0 | E10: =SUM('[1]Диспан-ия-Реаб-ия'!BC10,'[1]Диспан-ия-Реаб-ия'!BH10,'[1]Диспан-ия-Реаб-ия'!BM10) -> 0 | F10: =SUM('[1]Долгое ожидание обслед-ий'!BC10,'[1]Долгое ожидание обслед-ий'!BH10,'[1]Долгое ожидание обслед-ий'!BM10) -> 0 | G10: =SUM('[1]Качество оказания мед. пом.'!BC10,'[1]Качество оказания мед. пом.'!BH10,'[1]Качество оказания мед. пом.'!BM10) -> 8 | H10: =SUM('[1]Отказ в оказ. мед. пом.'!BC10,'[1]Отказ в оказ. мед. пом.'!BH10,'[1]Отказ в оказ. мед. пом.'!BM10) -> 0 | I10: =SUM('[1]Недостат. инфы'!BC10,'[1]Недостат. инфы'!BH10,'[1]Недостат. инфы'!BM10) -> 0 | J10: =SUM('[1]Этика и деонтология'!BC10,'[1]Этика и деонтология'!BH10,'[1]Этика и деонтология'!BM10) -> 0 | K10: 0 | L10: =SUM('[1]Ремонт. Стройка'!BC10,'[1]Ремонт. Стройка'!BH10,'[1]Ремонт. Стройка'!BM10) -> 0 | M10: =SUM([1]Оборудование!BC10,[1]Оборудование!BH10,[1]Оборудование!BM10) -> 0 | N10: =SUM('[1]Лекарственное обеспечение'!BC10,'[1]Лекарственное обеспечение'!BH10,'[1]Лекарственное обеспечение'!BM10) -> 1 | O10: =SUM([1]ВМП!BC10,[1]ВМП!BH10,[1]ВМП!BM10) -> 0 | P10: =SUM('[1]Кадры '!BC10,'[1]Кадры '!BH10,'[1]Кадры '!BM10) -> 0 | Q10: =SUM([1]Благодарности!BC10,[1]Благодарности!BH10,[1]Благодарности!BM10) -> 0 | R10: =SUM([1]Другое!BC10,[1]Другое!BH10,[1]Другое!BM10) -> 1 | S10: =SUM(B10:R10) -> 14
A11: ГБУЗС «Севастопольская городская психиатрическая больница» | B11: =SUM('[1]Организация работы МО'!BC11,'[1]Организация работы МО'!BH11,'[1]Организация работы МО'!BM11) -> 14 | C11: =SUM('[1]Запись к врачам'!BC11,'[1]Запись к врачам'!BH11,'[1]Запись к врачам'!BM11) -> 0 | D11: =SUM('[1]Оформление док-ов'!BC11,'[1]Оформление док-ов'!BH11,'[1]Оформление док-ов'!BM11) -> 2 | E11: =SUM('[1]Диспан-ия-Реаб-ия'!BC11,'[1]Диспан-ия-Реаб-ия'!BH11,'[1]Диспан-ия-Реаб-ия'!BM11) -> 0 | F11: =SUM('[1]Долгое ожидание обслед-ий'!BC11,'[1]Долгое ожидание обслед-ий'!BH11,'[1]Долгое ожидание обслед-ий'!BM11) -> 0 | G11: =SUM('[1]Качество оказания мед. пом.'!BC11,'[1]Качество оказания мед. пом.'!BH11,'[1]Качество оказания мед. пом.'!BM11) -> 0 | H11: =SUM('[1]Отказ в оказ. мед. пом.'!BC11,'[1]Отказ в оказ. мед. пом.'!BH11,'[1]Отказ в оказ. мед. пом.'!BM11) -> 0 | I11: =SUM('[1]Недостат. инфы'!BC11,'[1]Недостат. инфы'!BH11,'[1]Недостат. инфы'!BM11) -> 0 | J11: =SUM('[1]Этика и деонтология'!BC11,'[1]Этика и деонтология'!BH11,'[1]Этика и деонтология'!BM11) -> 0 | K11: 0 | L11: =SUM('[1]Ремонт. Стройка'!BC11,'[1]Ремонт. Стройка'!BH11,'[1]Ремонт. Стройка'!BM11) -> 0 | M11: =SUM([1]Оборудование!BC11,[1]Оборудование!BH11,[1]Оборудование!BM11) -> 0 | N11: =SUM('[1]Лекарственное обеспечение'!BC11,'[1]Лекарственное обеспечение'!BH11,'[1]Лекарственное обеспечение'!BM11) -> 0 | O11: =SUM([1]ВМП!BC11,[1]ВМП!BH11,[1]ВМП!BM11) -> 0 | P11: =SUM('[1]Кадры '!BC11,'[1]Кадры '!BH11,'[1]Кадры '!BM11) -> 0 | Q11: =SUM([1]Благодарности!BC11,[1]Благодарности!BH11,[1]Благодарности!BM11) -> 0 | R11: =SUM([1]Другое!BC11,[1]Другое!BH11,[1]Другое!BM11) -> 2 | S11: =SUM(B11:R11) -> 18
A12: ГБУЗС «Севастопольский противотуберкулезный диспансер» | B12: =SUM('[1]Организация работы МО'!BC12,'[1]Организация работы МО'!BH12,'[1]Организация работы МО'!BM12) -> 2 | C12: =SUM('[1]Запись к врачам'!BC12,'[1]Запись к врачам'!BH12,'[1]Запись к врачам'!BM12) -> 0 | D12: =SUM('[1]Оформление док-ов'!BC12,'[1]Оформление док-ов'!BH12,'[1]Оформление док-ов'!BM12) -> 0 | E12: =SUM('[1]Диспан-ия-Реаб-ия'!BC12,'[1]Диспан-ия-Реаб-ия'!BH12,'[1]Диспан-ия-Реаб-ия'!BM12) -> 0 | F12: =SUM('[1]Долгое ожидание обслед-ий'!BC12,'[1]Долгое ожидание обслед-ий'!BH12,'[1]Долгое ожидание обслед-ий'!BM12) -> 0 | G12: =SUM('[1]Качество оказания мед. пом.'!BC12,'[1]Качество оказания мед. пом.'!BH12,'[1]Качество оказания мед. пом.'!BM12) -> 0 | H12: =SUM('[1]Отказ в оказ. мед. пом.'!BC12,'[1]Отказ в оказ. мед. пом.'!BH12,'[1]Отказ в оказ. мед. пом.'!BM12) -> 0 | I12: =SUM('[1]Недостат. инфы'!BC12,'[1]Недостат. инфы'!BH12,'[1]Недостат. инфы'!BM12) -> 0 | J12: =SUM('[1]Этика и деонтология'!BC12,'[1]Этика и деонтология'!BH12,'[1]Этика и деонтология'!BM12) -> 0 | K12: 0 | L12: =SUM('[1]Ремонт. Стройка'!BC12,'[1]Ремонт. Стройка'!BH12,'[1]Ремонт. Стройка'!BM12) -> 0 | M12: =SUM([1]Оборудование!BC12,[1]Оборудование!BH12,[1]Оборудование!BM12) -> 0 | N12: =SUM('[1]Лекарственное обеспечение'!BC12,'[1]Лекарственное обеспечение'!BH12,'[1]Лекарственное обеспечение'!BM12) -> 0 | O12: =SUM([1]ВМП!BC12,[1]ВМП!BH12,[1]ВМП!BM12) -> 0 | P12: =SUM('[1]Кадры '!BC12,'[1]Кадры '!BH12,'[1]Кадры '!BM12) -> 0 | Q12: =SUM([1]Благодарности!BC12,[1]Благодарности!BH12,[1]Благодарности!BM12) -> 0 | R12: =SUM([1]Другое!BC12,[1]Другое!BH12,[1]Другое!BM12) -> 3 | S12: =SUM(B12:R12) -> 5
A13: ГБУЗС «Кожно-венерологический диспансер» | B13: =SUM('[1]Организация работы МО'!BC13,'[1]Организация работы МО'!BH13,'[1]Организация работы МО'!BM13) -> 0 | C13: =SUM('[1]Запись к врачам'!BC13,'[1]Запись к врачам'!BH13,'[1]Запись к врачам'!BM13) -> 0 | D13: =SUM('[1]Оформление док-ов'!BC13,'[1]Оформление док-ов'!BH13,'[1]Оформление док-ов'!BM13) -> 1 | E13: =SUM('[1]Диспан-ия-Реаб-ия'!BC13,'[1]Диспан-ия-Реаб-ия'!BH13,'[1]Диспан-ия-Реаб-ия'!BM13) -> 0 | F13: =SUM('[1]Долгое ожидание обслед-ий'!BC13,'[1]Долгое ожидание обслед-ий'!BH13,'[1]Долгое ожидание обслед-ий'!BM13) -> 0 | G13: =SUM('[1]Качество оказания мед. пом.'!BC13,'[1]Качество оказания мед. пом.'!BH13,'[1]Качество оказания мед. пом.'!BM13) -> 0 | H13: =SUM('[1]Отказ в оказ. мед. пом.'!BC13,'[1]Отказ в оказ. мед. пом.'!BH13,'[1]Отказ в оказ. мед. пом.'!BM13) -> 0 | I13: =SUM('[1]Недостат. инфы'!BC13,'[1]Недостат. инфы'!BH13,'[1]Недостат. инфы'!BM13) -> 0 | J13: =SUM('[1]Этика и деонтология'!BC13,'[1]Этика и деонтология'!BH13,'[1]Этика и деонтология'!BM13) -> 0 | K13: 0 | L13: =SUM('[1]Ремонт. Стройка'!BC13,'[1]Ремонт. Стройка'!BH13,'[1]Ремонт. Стройка'!BM13) -> 0 | M13: =SUM([1]Оборудование!BC13,[1]Оборудование!BH13,[1]Оборудование!BM13) -> 0 | N13: =SUM('[1]Лекарственное обеспечение'!BC13,'[1]Лекарственное обеспечение'!BH13,'[1]Лекарственное обеспечение'!BM13) -> 0 | O13: =SUM([1]ВМП!BC13,[1]ВМП!BH13,[1]ВМП!BM13) -> 0 | P13: =SUM('[1]Кадры '!BC13,'[1]Кадры '!BH13,'[1]Кадры '!BM13) -> 0 | Q13: =SUM([1]Благодарности!BC13,[1]Благодарности!BH13,[1]Благодарности!BM13) -> 0 | R13: =SUM([1]Другое!BC13,[1]Другое!BH13,[1]Другое!BM13) -> 0 | S13: =SUM(B13:R13) -> 1
A14: ГБУЗС «Севастопольский городской онкологический диспансер имени А.А. Задорожного» | B14: =SUM('[1]Организация работы МО'!BC14,'[1]Организация работы МО'!BH14,'[1]Организация работы МО'!BM14) -> 5 | C14: =SUM('[1]Запись к врачам'!BC14,'[1]Запись к врачам'!BH14,'[1]Запись к врачам'!BM14) -> 0 | D14: =SUM('[1]Оформление док-ов'!BC14,'[1]Оформление док-ов'!BH14,'[1]Оформление док-ов'!BM14) -> 0 | E14: =SUM('[1]Диспан-ия-Реаб-ия'!BC14,'[1]Диспан-ия-Реаб-ия'!BH14,'[1]Диспан-ия-Реаб-ия'!BM14) -> 1 | F14: =SUM('[1]Долгое ожидание обслед-ий'!BC14,'[1]Долгое ожидание обслед-ий'!BH14,'[1]Долгое ожидание обслед-ий'!BM14) -> 0 | G14: =SUM('[1]Качество оказания мед. пом.'!BC14,'[1]Качество оказания мед. пом.'!BH14,'[1]Качество оказания мед. пом.'!BM14) -> 0 | H14: =SUM('[1]Отказ в оказ. мед. пом.'!BC14,'[1]Отказ в оказ. мед. пом.'!BH14,'[1]Отказ в оказ. мед. пом.'!BM14) -> 0 | I14: =SUM('[1]Недостат. инфы'!BC14,'[1]Недостат. инфы'!BH14,'[1]Недостат. инфы'!BM14) -> 0 | J14: =SUM('[1]Этика и деонтология'!BC14,'[1]Этика и деонтология'!BH14,'[1]Этика и деонтология'!BM14) -> 0 | K14: 0 | L14: =SUM('[1]Ремонт. Стройка'!BC14,'[1]Ремонт. Стройка'!BH14,'[1]Ремонт. Стройка'!BM14) -> 0 | M14: =SUM([1]Оборудование!BC14,[1]Оборудование!BH14,[1]Оборудование!BM14) -> 1 | N14: =SUM('[1]Лекарственное обеспечение'!BC14,'[1]Лекарственное обеспечение'!BH14,'[1]Лекарственное обеспечение'!BM14) -> 0 | O14: =SUM([1]ВМП!BC14,[1]ВМП!BH14,[1]ВМП!BM14) -> 0 | P14: =SUM('[1]Кадры '!BC14,'[1]Кадры '!BH14,'[1]Кадры '!BM14) -> 0 | Q14: =SUM([1]Благодарности!BC14,[1]Благодарности!BH14,[1]Благодарности!BM14) -> 2 | R14: =SUM([1]Другое!BC14,[1]Другое!BH14,[1]Другое!BM14) -> 0 | S14: =SUM(B14:R14) -> 9
A15: ГБУЗС Врачебно-физкультурный диспансер» | B15: =SUM('[1]Организация работы МО'!BC15,'[1]Организация работы МО'!BH15,'[1]Организация работы МО'!BM15) -> 0 | C15: =SUM('[1]Запись к врачам'!BC15,'[1]Запись к врачам'!BH15,'[1]Запись к врачам'!BM15) -> 0 | D15: =SUM('[1]Оформление док-ов'!BC15,'[1]Оформление док-ов'!BH15,'[1]Оформление док-ов'!BM15) -> 0 | E15: =SUM('[1]Диспан-ия-Реаб-ия'!BC15,'[1]Диспан-ия-Реаб-ия'!BH15,'[1]Диспан-ия-Реаб-ия'!BM15) -> 0 | F15: =SUM('[1]Долгое ожидание обслед-ий'!BC15,'[1]Долгое ожидание обслед-ий'!BH15,'[1]Долгое ожидание обслед-ий'!BM15) -> 0 | G15: =SUM('[1]Качество оказания мед. пом.'!BC15,'[1]Качество оказания мед. пом.'!BH15,'[1]Качество оказания мед. пом.'!BM15) -> 0 | H15: =SUM('[1]Отказ в оказ. мед. пом.'!BC15,'[1]Отказ в оказ. мед. пом.'!BH15,'[1]Отказ в оказ. мед. пом.'!BM15) -> 0 | I15: =SUM('[1]Недостат. инфы'!BC15,'[1]Недостат. инфы'!BH15,'[1]Недостат. инфы'!BM15) -> 0 | J15: =SUM('[1]Этика и деонтология'!BC15,'[1]Этика и деонтология'!BH15,'[1]Этика и деонтология'!BM15) -> 0 | K15: 0 | L15: =SUM('[1]Ремонт. Стройка'!BC15,'[1]Ремонт. Стройка'!BH15,'[1]Ремонт. Стройка'!BM15) -> 0 | M15: =SUM([1]Оборудование!BC15,[1]Оборудование!BH15,[1]Оборудование!BM15) -> 0 | N15: =SUM('[1]Лекарственное обеспечение'!BC15,'[1]Лекарственное обеспечение'!BH15,'[1]Лекарственное обеспечение'!BM15) -> 0 | O15: =SUM([1]ВМП!BC15,[1]ВМП!BH15,[1]ВМП!BM15) -> 0 | P15: =SUM('[1]Кадры '!BC15,'[1]Кадры '!BH15,'[1]Кадры '!BM15) -> 0 | Q15: =SUM([1]Благодарности!BC15,[1]Благодарности!BH15,[1]Благодарности!BM15) -> 0 | R15: =SUM([1]Другое!BC15,[1]Другое!BH15,[1]Другое!BM15) -> 0 | S15: =SUM(B15:R15) -> 0
... A27: Другое | B27: =SUM('[1]Организация работы МО'!BC27,'[1]Организация работы МО'!BH27,'[1]Организация работы МО'!BM27) -> 6 | C27: =SUM('[1]Запись к врачам'!BC27,'[1]Запись к врачам'!BH27,'[1]Запись к врачам'!BM27) -> 0 | D27: =SUM('[1]Оформление док-ов'!BC27,'[1]Оформление док-ов'!BH27,'[1]Оформление док-ов'!BM27) -> 0 | E27: =SUM('[1]Диспан-ия-Реаб-ия'!BC27,'[1]Диспан-ия-Реаб-ия'!BH27,'[1]Диспан-ия-Реаб-ия'!BM27) -> 0 | F27: =SUM('[1]Долгое ожидание обслед-ий'!BC27,'[1]Долгое ожидание обслед-ий'!BH27,'[1]Долгое ожидание обслед-ий'!BM27) -> 0 | G27: =SUM('[1]Качество оказания мед. пом.'!BC27,'[1]Качество оказания мед. пом.'!BH27,'[1]Качество оказания мед. пом.'!BM27) -> 0 | H27: =SUM('[1]Отказ в оказ. мед. пом.'!BC27,'[1]Отказ в оказ. мед. пом.'!BH27,'[1]Отказ в оказ. мед. пом.'!BM27) -> 1 | I27: =SUM('[1]Недостат. инфы'!BC27,'[1]Недостат. инфы'!BH27,'[1]Недостат. инфы'!BM27) -> 0 | J27: =SUM('[1]Этика и деонтология'!BC27,'[1]Этика и деонтология'!BH27,'[1]Этика и деонтология'!BM27) -> 0 | K27: 0 | L27: =SUM('[1]Ремонт. Стройка'!BC27,'[1]Ремонт. Стройка'!BH27,'[1]Ремонт. Стройка'!BM27) -> 0 | M27: =SUM([1]Оборудование!BC27,[1]Оборудование!BH27,[1]Оборудование!BM27) -> 0 | N27: =SUM('[1]Лекарственное обеспечение'!BC27,'[1]Лекарственное обеспечение'!BH27,'[1]Лекарственное обеспечение'!BM27) -> 1 | O27: =SUM([1]ВМП!BC27,[1]ВМП!BH27,[1]ВМП!BM27) -> 0 | P27: =SUM('[1]Кадры '!BC27,'[1]Кадры '!BH27,'[1]Кадры '!BM27) -> 0 | Q27: =SUM([1]Благодарности!BC27,[1]Благодарности!BH27,[1]Благодарности!BM27) -> 0 | R27: =SUM([1]Другое!BC27,[1]Другое!BH27,[1]Другое!BM27) -> 4 | S27: =SUM(B27:R27) -> 12
A28: Дом малютки | B28: =SUM('[1]Организация работы МО'!BC28,'[1]Организация работы МО'!BH28,'[1]Организация работы МО'!BM28) -> 0 | C28: =SUM('[1]Запись к врачам'!BC28,'[1]Запись к врачам'!BH28,'[1]Запись к врачам'!BM28) -> 0 | D28: =SUM('[1]Оформление док-ов'!BC28,'[1]Оформление док-ов'!BH28,'[1]Оформление док-ов'!BM28) -> 0 | E28: =SUM('[1]Диспан-ия-Реаб-ия'!BC28,'[1]Диспан-ия-Реаб-ия'!BH28,'[1]Диспан-ия-Реаб-ия'!BM28) -> 0 | F28: =SUM('[1]Долгое ожидание обслед-ий'!BC28,'[1]Долгое ожидание обслед-ий'!BH28,'[1]Долгое ожидание обслед-ий'!BM28) -> 0 | G28: =SUM('[1]Качество оказания мед. пом.'!BC28,'[1]Качество оказания мед. пом.'!BH28,'[1]Качество оказания мед. пом.'!BM28) -> 0 | H28: =SUM('[1]Отказ в оказ. мед. пом.'!BC28,'[1]Отказ в оказ. мед. пом.'!BH28,'[1]Отказ в оказ. мед. пом.'!BM28) -> 0 | I28: =SUM('[1]Недостат. инфы'!BC28,'[1]Недостат. инфы'!BH28,'[1]Недостат. инфы'!BM28) -> 0 | J28: =SUM('[1]Этика и деонтология'!BC28,'[1]Этика и деонтология'!BH28,'[1]Этика и деонтология'!BM28) -> 0 | K28: 0 | L28: =SUM('[1]Ремонт. Стройка'!BC28,'[1]Ремонт. Стройка'!BH28,'[1]Ремонт. Стройка'!BM28) -> 0 | M28: =SUM([1]Оборудование!BC28,[1]Оборудование!BH28,[1]Оборудование!BM28) -> 0 | N28: =SUM('[1]Лекарственное обеспечение'!BC28,'[1]Лекарственное обеспечение'!BH28,'[1]Лекарственное обеспечение'!BM28) -> 0 | O28: =SUM([1]ВМП!BC28,[1]ВМП!BH28,[1]ВМП!BM28) -> 0 | P28: =SUM('[1]Кадры '!BC28,'[1]Кадры '!BH28,'[1]Кадры '!BM28) -> 0 | Q28: =SUM([1]Благодарности!BC28,[1]Благодарности!BH28,[1]Благодарности!BM28) -> 0 | R28: =SUM([1]Другое!BC28,[1]Другое!BH28,[1]Другое!BM28) -> 0
A29: Всего | B29: =SUM(B4:B28) -> 156 | C29: =SUM(C4:C28) -> 16 | D29: =SUM(D4:D28) -> 10 | E29: =SUM(E4:E28) -> 10 | F29: =SUM(F4:F28) -> 7 | G29: =SUM(G4:G28) -> 33 | H29: =SUM(H4:H28) -> 22 | I29: =SUM(I4:I28) -> 1 | ... P29: =SUM(P4:P28) -> 9 | Q29: =SUM(Q4:Q27) -> 22 | R29: =SUM(R4:R27) -> 72 | S29: =SUM(B29:R29) -> 407
