Workbook
Name Свод: Свод!$U$25

Sheet Свод
A1: Медицинская организация | B1: Организация работы МО | C1: Запись к врачам | D1: Оформление документов | E1: Диспансеризация/Реабилитация | F1: Долгое ожидание обследования | G1: Качество оказания МП | H1: Отказ в оказании МП | I1: Недостаточность информации | J1: Этика и деонтология | K1: Транспортная доступность | L1: Ремонт/Строительство | M1: Оборудование | N1: Лекарственное обеспечение | O1: ВМП | P1: Кадры | Q1: Благодарности | R1: Другое | S1: Итого
A2: ГБУЗС «Городская больница № 1 им. Н.И. Пирогова» | B2: 29 | C2: ='[1]Запись к врачам'!BN4 -> 3 | D2: ='[1]Оформление док-ов'!BN4 -> 2 | E2: ='[1]Диспан-ия-Реаб-ия'!BN4 -> 0 | F2: ='[1]Долгое ожидание обслед-ий'!BN4 -> 1 | G2: ='[1]Качество оказания мед. пом.'!BN4 -> 5 | H2: ='[1]Отказ в оказ. мед. пом.'!BN4 -> 1 | I2: ='[1]Недостат. инфы'!BN4 -> 0 | J2: ='[1]Этика и деонтология'!BN4 -> 0 | K2: =[1]Трансп.доступность!BO4 -> 0 | L2: ='[1]Ремонт. Стройка'!BN4 -> 0 | M2: =[1]Оборудование!BN4 -> 0 | N2: ='[1]Лекарственное обеспечение'!BN4 -> 2 | O2: =[1]ВМП!BN4 -> 0 | P2: ='[1]Кадры '!BN4 -> 0 | Q2: =[1]Благодарности!BN4 -> 4 | R2: =[1]Другое!BN4 -> 5 | S2: =SUM(B2:R2) -> 52
A3: ГБУЗС «Городская больница № 2» | B3: ='[1]Организация работы МО'!BN5 -> 8 | C3: ='[1]Запись к врачам'!BN5 -> 1 | D3: ='[1]Оформление док-ов'!BN5 -> 0 | E3: ='[1]Диспан-ия-Реаб-ия'!BN5 -> 0 | F3: ='[1]Долгое ожидание обслед-ий'!BN5 -> 0 | G3: ='[1]Качество оказания мед. пом.'!BN5 -> 0 | H3: ='[1]Отказ в оказ. мед. пом.'!BN5 -> 1 | I3: ='[1]Недостат. инфы'!BN5 -> 0 | J3: ='[1]Этика и деонтология'!BN5 -> 2 | K3: =[1]Трансп.доступность!BO5 -> 0 | L3: ='[1]Ремонт. Стройка'!BN5 -> 0 | M3: =[1]Оборудование!BN5 -> 0 | N3: ='[1]Лекарственное обеспечение'!BN5 -> 0 | O3: =[1]ВМП!BN5 -> 0 | P3: ='[1]Кадры '!BN5 -> 0 | Q3: =[1]Благодарности!BN5 -> 0 | R3: =[1]Другое!BN5 -> 0 | S3: =SUM(B3:R3) -> 12
A4: ГБУЗС «Городская больница № 3 им. Даши Севастопольской» | B4: ='[1]Организация работы МО'!BN6 -> 5 | C4: ='[1]Запись к врачам'!BN6 -> 0 | D4: ='[1]Оформление док-ов'!BN6 -> 0 | E4: ='[1]Диспан-ия-Реаб-ия'!BN6 -> 0 | F4: ='[1]Долгое ожидание обслед-ий'!BN6 -> 1 | G4: ='[1]Качество оказания мед. пом.'!BN6 -> 0 | H4: ='[1]Отказ в оказ. мед. пом.'!BN6 -> 1 | I4: ='[1]Недостат. инфы'!BN6 -> 0 | J4: ='[1]Этика и деонтология'!BN6 -> 0 | K4: =[1]Трансп.доступность!BO6 -> 0 | L4: ='[1]Ремонт. Стройка'!BN6 -> 0 | M4: =[1]Оборудование!BN6 -> 0 | N4: ='[1]Лекарственное обеспечение'!BN6 -> 0 | O4: =[1]ВМП!BN6 -> 0 | P4: ='[1]Кадры '!BN6 -> 0 | Q4: =[1]Благодарности!BN6 -> 1 | R4: =[1]Другое!BN6 -> 1 | S4: =SUM(B4:R4) -> 9
A5: ГБУЗС «Городская больница № 4» | B5: ='[1]Организация работы МО'!BN7 -> 2 | C5: ='[1]Запись к врачам'!BN7 -> 0 | D5: ='[1]Оформление док-ов'!BN7 -> 0 | E5: ='[1]Диспан-ия-Реаб-ия'!BN7 -> 0 | F5: ='[1]Долгое ожидание обслед-ий'!BN7 -> 0 | G5: ='[1]Качество оказания мед. пом.'!BN7 -> 0 | H5: ='[1]Отказ в оказ. мед. пом.'!BN7 -> 1 | I5: ='[1]Недостат. инфы'!BN7 -> 0 | J5: ='[1]Этика и деонтология'!BN7 -> 0 | K5: =[1]Трансп.доступность!BO7 -> 0 | L5: ='[1]Ремонт. Стройка'!BN7 -> 0 | M5: =[1]Оборудование!BN7 -> 1 | N5: ='[1]Лекарственное обеспечение'!BN7 -> 1 | O5: =[1]ВМП!BN7 -> 0 | P5: ='[1]Кадры '!BN7 -> 0 | Q5: =[1]Благодарности!BN7 -> 1 | R5: =[1]Другое!BN7 -> 0 | S5: =SUM(B5:R5) -> 6
A6: ГБУЗС «Городская больница № 5 – «Центр охраны здоровья матери и ребенка» | B6: ='[1]Организация работы МО'!BN8 -> 11 | C6: ='[1]Запись к врачам'!BN8 -> 3 | D6: ='[1]Оформление док-ов'!BN8 -> 0 | E6: ='[1]Диспан-ия-Реаб-ия'!BN8 -> 0 | F6: ='[1]Долгое ожидание обслед-ий'!BN8 -> 1 | G6: ='[1]Качество оказания мед. пом.'!BN8 -> 4 | H6: ='[1]Отказ в оказ. мед. пом.'!BN8 -> 10 | I6: ='[1]Недостат. инфы'!BN8 -> 0 | J6: ='[1]Этика и деонтология'!BN8 -> 1 | K6: =[1]Трансп.доступность!BO8 -> 0 | L6: ='[1]Ремонт. Стройка'!BN8 -> 0 | M6: =[1]Оборудование!BN8 -> 0 | N6: ='[1]Лекарственное обеспечение'!BN8 -> 0 | O6: =[1]ВМП!BN8 -> 0 | P6: ='[1]Кадры '!BN8 -> 0 | Q6: =[1]Благодарности!BN8 -> 3 | R6: =[1]Другое!BN8 -> 1 | S6: =SUM(B6:R6) -> 34
A7: ГБУЗС "Севастопольская городская больница № 9" | B7: ='[1]Организация работы МО'!BN9 -> 1 | C7: ='[1]Запись к врачам'!BN9 -> 1 | D7: ='[1]Оформление док-ов'!BN9 -> 0 | E7: ='[1]Диспан-ия-Реаб-ия'!BN9 -> 0 | F7: ='[1]Долгое ожидание обслед-ий'!BN9 -> 0 | G7: ='[1]Качество оказания мед. пом.'!BN9 -> 0 | H7: ='[1]Отказ в оказ. мед. пом.'!BN9 -> 1 | I7: ='[1]Недостат. инфы'!BN9 -> 0 | J7: ='[1]Этика и деонтология'!BN9 -> 1 | K7: =[1]Трансп.доступность!BO9 -> 0 | L7: ='[1]Ремонт. Стройка'!BN9 -> 0 | M7: =[1]Оборудование!BN9 -> 0 | N7: ='[1]Лекарственное обеспечение'!BN9 -> 0 | O7: =[1]ВМП!BN9 -> 0 | P7: ='[1]Кадры '!BN9 -> 0 | Q7: =[1]Благодарности!BN9 -> 1 | R7: =[1]Другое!BN9 -> 1 | S7: =SUM(B7:R7) -> 6
A8: ГБУЗС "Городская инфекционная больница" | B8: ='[1]Организация работы МО'!BN10 -> 1 | C8: ='[1]Запись к врачам'!BN10 -> 0 | D8: ='[1]Оформление док-ов'!BN10 -> 0 | E8: ='[1]Диспан-ия-Реаб-ия'!BN10 -> 0 | F8: ='[1]Долгое ожидание обслед-ий'!BN10 -> 0 | G8: ='[1]Качество оказания мед. пом.'!BN10 -> 0 | H8: ='[1]Отказ в оказ. мед. пом.'!BN10 -> 0 | I8: ='[1]Недостат. инфы'!BN10 -> 0 | J8: ='[1]Этика и деонтология'!BN10 -> 0 | K8: =[1]Трансп.доступность!BO10 -> 0 | L8: ='[1]Ремонт. Стройка'!BN10 -> 0 | M8: =[1]Оборудование!BN10 -> 0 | N8: ='[1]Лекарственное обеспечение'!BN10 -> 0 | O8: =[1]ВМП!BN10 -> 0 | P8: ='[1]Кадры '!BN10 -> 0 | Q8: =[1]Благодарности!BN10 -> 0 | R8: =[1]Другое!BN10 -> 0 | S8: =SUM(B8:R8) -> 1
A9: ГБУЗС «Севастопольская городская психиатрическая больница» | B9: ='[1]Организация работы МО'!BN11 -> 6 | C9: ='[1]Запись к врачам'!BN11 -> 0 | D9: ='[1]Оформление док-ов'!BN11 -> 0 | E9: ='[1]Диспан-ия-Реаб-ия'!BN11 -> 0 | F9: ='[1]Долгое ожидание обслед-ий'!BN11 -> 0 | G9: ='[1]Качество оказания мед. пом.'!BN11 -> 0 | H9: ='[1]Отказ в оказ. мед. пом.'!BN11 -> 0 | I9: ='[1]Недостат. инфы'!BN11 -> 0 | J9: ='[1]Этика и деонтология'!BN11 -> 0 | K9: =[1]Трансп.доступность!BO11 -> 0 | L9: ='[1]Ремонт. Стройка'!BN11 -> 0 | M9: =[1]Оборудование!BN11 -> 0 | N9: ='[1]Лекарственное обеспечение'!BN11 -> 0 | O9: =[1]ВМП!BN11 -> 0 | P9: ='[1]Кадры '!BN11 -> 0 | Q9: =[1]Благодарности!BN11 -> 1 | R9: =[1]Другое!BN11 -> 0 | S9: =SUM(B9:R9) -> 7
A10: ГБУЗС «Севастопольский противотуберкулезный диспансер» | B10: ='[1]Организация работы МО'!BN12 -> 2 | C10: ='[1]Запись к врачам'!BN12 -> 0 | D10: ='[1]Оформление док-ов'!BN12 -> 0 | E10: ='[1]Диспан-ия-Реаб-ия'!BN12 -> 0 | F10: ='[1]Долгое ожидание обслед-ий'!BN12 -> 0 | G10: ='[1]Качество оказания мед. пом.'!BN12 -> 0 | H10: ='[1]Отказ в оказ. мед. пом.'!BN12 -> 0 | I10: ='[1]Недостат. инфы'!BN12 -> 0 | J10: ='[1]Этика и деонтология'!BN12 -> 0 | K10: =[1]Трансп.доступность!BO12 -> 0 | L10: ='[1]Ремонт. Стройка'!BN12 -> 0 | M10: =[1]Оборудование!BN12 -> 0 | N10: ='[1]Лекарственное обеспечение'!BN12 -> 0 | O10: =[1]ВМП!BN12 -> 0 | P10: ='[1]Кадры '!BN12 -> 0 | Q10: =[1]Благодарности!BN12 -> 0 | R10: =[1]Другое!BN12 -> 0 | S10: =SUM(B10:R10) -> 2
A11: ГБУЗС «Кожно-венерологический диспансер» | B11: ='[1]Организация работы МО'!BN13 -> 0 | C11: ='[1]Запись к врачам'!BN13 -> 0 | D11: ='[1]Оформление док-ов'!BN13 -> 0 | E11: ='[1]Диспан-ия-Реаб-ия'!BN13 -> 0 | F11: ='[1]Долгое ожидание обслед-ий'!BN13 -> 0 | G11: ='[1]Качество оказания мед. пом.'!BN13 -> 0 | H11: ='[1]Отказ в оказ. мед. пом.'!BN13 -> 0 | I11: ='[1]Недостат. инфы'!BN13 -> 0 | J11: ='[1]Этика и деонтология'!BN13 -> 0 | K11: =[1]Трансп.доступность!BO13 -> 0 | L11: ='[1]Ремонт. Стройка'!BN13 -> 0 | M11: =[1]Оборудование!BN13 -> 0 | N11: ='[1]Лекарственное обеспечение'!BN13 -> 0 | O11: =[1]ВМП!BN13 -> 0 | P11: ='[1]Кадры '!BN13 -> 0 | Q11: =[1]Благодарности!BN13 -> 0 | R11: =[1]Другое!BN13 -> 0 | S11: =SUM(B11:R11) -> 0
A12: ГБУЗС «Севастопольский городской онкологический диспансер имени А.А. Задорожного» | B12: ='[1]Организация работы МО'!BN14 -> 0 | C12: ='[1]Запись к врачам'!BN14 -> 0 | D12: ='[1]Оформление док-ов'!BN14 -> 0 | E12: ='[1]Диспан-ия-Реаб-ия'!BN14 -> 0 | F12: ='[1]Долгое ожидание обслед-ий'!BN14 -> 0 | G12: ='[1]Качество оказания мед. пом.'!BN14 -> 0 | H12: ='[1]Отказ в оказ. мед. пом.'!BN14 -> 0 | I12: ='[1]Недостат. инфы'!BN14 -> 0 | J12: ='[1]Этика и деонтология'!BN14 -> 0 | K12: =[1]Трансп.доступность!BO14 -> 0 | L12: ='[1]Ремонт. Стройка'!BN14 -> 0 | M12: =[1]Оборудование!BN14 -> 0 | N12: ='[1]Лекарственное обеспечение'!BN14 -> 0 | O12: =[1]ВМП!BN14 -> 0 | P12: ='[1]Кадры '!BN14 -> 0 | Q12: =[1]Благодарности!BN14 -> 0 | R12: =[1]Другое!BN14 -> 0 | S12: =SUM(B12:R12) -> 0
A13: ГБУЗС Врачебно-физкультурный диспансер» | B13: ='[1]Организация работы МО'!BN15 -> 0 | C13: ='[1]Запись к врачам'!BN15 -> 0 | D13: ='[1]Оформление док-ов'!BN15 -> 0 | E13: ='[1]Диспан-ия-Реаб-ия'!BN15 -> 0 | F13: ='[1]Долгое ожидание обслед-ий'!BN15 -> 0 | G13: ='[1]Качество оказания мед. пом.'!BN15 -> 0 | H13: ='[1]Отказ в оказ. мед. пом.'!BN15 -> 0 | I13: ='[1]Недостат. инфы'!BN15 -> 0 | J13: ='[1]Этика и деонтология'!BN15 -> 0 | K13: =[1]Трансп.доступность!BO15 -> 0 | L13: ='[1]Ремонт. Стройка'!BN15 -> 0 | M13: =[1]Оборудование!BN15 -> 0 | N13: ='[1]Лекарственное обеспечение'!BN15 -> 0 | O13: =[1]ВМП!BN15 -> 0 | P13: ='[1]Кадры '!BN15 -> 0 | Q13: =[1]Благодарности!BN15 -> 0 | R13: =[1]Другое!BN15 -> 0 | S13: =SUM(B13:R13) -> 0
A14: ГБУЗС «Центр медицинской профилактики» | B14: ='[1]Организация работы МО'!BN16 -> 0 | C14: ='[1]Запись к врачам'!BN16 -> 0 | D14: ='[1]Оформление док-ов'!BN16 -> 0 | E14: ='[1]Диспан-ия-Реаб-ия'!BN16 -> 0 | F14: ='[1]Долгое ожидание обслед-ий'!BN16 -> 0 | G14: ='[1]Качество оказания мед. пом.'!BN16 -> 0 | H14: ='[1]Отказ в оказ. мед. пом.'!BN16 -> 0 | I14: ='[1]Недостат. инфы'!BN16 -> 0 | J14: ='[1]Этика и деонтология'!BN16 -> 0 | K14: =[1]Трансп.доступность!BO16 -> 0 | L14: ='[1]Ремонт. Стройка'!BN16 -> 0 | M14: =[1]Оборудование!BN16 -> 0 | N14: ='[1]Лекарственное обеспечение'!BN16 -> 0 | O14: =[1]ВМП!BN16 -> 0 | P14: ='[1]Кадры '!BN16 -> 0 | Q14: =[1]Благодарности!BN16 -> 0 | R14: =[1]Другое!BN16 -> 0 | S14: =SUM(B14:R14) -> 0
... A26: Дом Малютки | B26: ='[1]Организация работы МО'!BN28 -> 0 | C26: ='[1]Запись к врачам'!BN28 -> 0 | D26: ='[1]Оформление док-ов'!BN28 -> 0 | E26: ='[1]Диспан-ия-Реаб-ия'!BN28 -> 0 | F26: ='[1]Долгое ожидание обслед-ий'!BN28 -> 0 | G26: ='[1]Качество оказания мед. пом.'!BN28 -> 0 | H26: ='[1]Отказ в оказ. мед. пом.'!BN28 -> 0 | I26: ='[1]Недостат. инфы'!BN28 -> 0 | J26: ='[1]Этика и деонтология'!BN28 -> 0 | K26: =[1]Трансп.доступность!BO28 -> 0 | L26: ='[1]Ремонт. Стройка'!BN28 -> 0 | M26: =[1]Оборудование!BN28 -> 0 | N26: ='[1]Лекарственное обеспечение'!BN28 -> 0 | O26: =[1]ВМП!BN28 -> 0 | P26: ='[1]Кадры '!BN28 -> 0 | Q26: =[1]Благодарности!BN28 -> 0 | R26: =[1]Другое!BN28 -> 0 | S26: =SUM(B26:R26) -> 0
A27: Всего | B27: =SUM(B2:B26) -> 80 | C27: =SUM(C2:C26) -> 9 | D27: =SUM(D2:D26) -> 3 | E27: =SUM(E2:E26) -> 0 | F27: =SUM(F2:F26) -> 3 | G27: =SUM(G2:G26) -> 9 | H27: =SUM(H2:H26) -> 18 | I27: =SUM(I2:I26) -> 0 | ... S27: =SUM(S2:S26) -> 193
