Workbook

Sheet Свод
A1: Медицинская организация | B1: Организация работы МО | C1: Запись к врачам | D1: Оформление документов | E1: Диспансеризация/Реабилитация | F1: Долгое ожидание обследования | G1: Качество оказания МП | H1: Отказ в оказании МП | I1: Недоступность информации | J1: Этика и деонтология | K1: Транспортная доступность | L1: Ремонт/Строительство | M1: Оборудование | N1: Лекарственное обеспечение | O1: ВМП | P1: Кадры | Q1: Благодарности | R1: Другое | S1: Итого
A4: ГБУЗС «Городская больница № 1 им. Н.И. Пирогова» | B4: =SUM('[1]Организация работы МО'!V4,'[1]Организация работы МО'!AA4,'[1]Организация работы МО'!AF4) -> 55 | C4: =SUM('[1]Запись к врачам'!V4,'[1]Запись к врачам'!AA4,'[1]Запись к врачам'!AF4) -> 7 | D4: =SUM('[1]Оформление док-ов'!V4,'[1]Оформление док-ов'!AA4,'[1]Оформление док-ов'!AF4) -> 0 | E4: =SUM('[1]Диспан-ия-Реаб-ия'!V4,'[1]Диспан-ия-Реаб-ия'!AA4,'[1]Диспан-ия-Реаб-ия'!AF4) -> 1 | F4: =SUM('[1]Долгое ожидание обслед-ий'!V4,'[1]Долгое ожидание обслед-ий'!AA2,'[1]Долгое ожидание обслед-ий'!AA4,'[1]Долгое ожидание обслед-ий'!AF4) -> 6 | G4: =SUM('[1]Качество оказания мед. пом.'!V4,'[1]Качество оказания мед. пом.'!AA4,'[1]Качество оказания мед. пом.'!AF4) -> 8 | H4: =SUM('[1]Отказ в оказ. мед. пом.'!V4,'[1]Отказ в оказ. мед. пом.'!AA4,'[1]Отказ в оказ. мед. пом.'!AF4) -> 7 | I4: =SUM('[1]Недостат. инфы'!V4,'[1]Недостат. инфы'!AA4,'[1]Недостат. инфы'!AF4) -> 0 | J4: =SUM('[1]Этика и деонтология'!V4,'[1]Этика и деонтология'!AA4,'[1]Этика и деонтология'!AF4) -> 4 | K4: =SUM('[1]Трансп.доступность'!V4,'[1]Трансп.доступность'!AA4,'[1]Трансп.доступность'!AF4) -> 0 | L4: =SUM('[1]Ремонт. Стройка'!V4,'[1]Ремонт. Стройка'!AA4,'[1]Ремонт. Стройка'!AF2,'[1]Ремонт. Стройка'!AF4) -> 1 | M4: =SUM([1]Оборудование!V4,[1]Оборудование!AA4,[1]Оборудование!AF4) -> 1 | N4: =SUM('[1]Лекарственное обеспечение'!V4,'[1]Лекарственное обеспечение'!AA4,'[1]Лекарственное обеспечение'!AF4) -> 1 | O4: =SUM([1]ВМП!V4,[1]ВМП!AA4,[1]ВМП!AF4) -> 0 | P4: =SUM('[1]Кадры '!V4,'[1]Кадры '!AA4,'[1]Кадры '!AF4) -> 2 | Q4: =SUM([1]Благодарности!V4,[1]Благодарности!AA4,[1]Благодарности!AF4) -> 9 | R4: =SUM([1]Другое!V4,[1]Другое!AA4,[1]Другое!AF4) -> 6 | S4: =SUM(B4:R4) -> 108
A5: ГБУЗС «ГБ № 1» Филиал 1 | B5: =SUM('[1]Организация работы МО'!V5,'[1]Организация работы МО'!AA5,'[1]Организация работы МО'!AF5) -> 6 | C5: =SUM('[1]Запись к врачам'!V5,'[1]Запись к врачам'!AA5,'[1]Запись к врачам'!AF5) -> 2 | D5: =SUM('[1]Оформление док-ов'!V5,'[1]Оформление док-ов'!AA5,'[1]Оформление док-ов'!AF5) -> 0 | E5: =SUM('[1]Диспан-ия-Реаб-ия'!V5,'[1]Диспан-ия-Реаб-ия'!AA5,'[1]Диспан-ия-Реаб-ия'!AF5) -> 0 | F5: =SUM('[1]Долгое ожидание обслед-ий'!V5,'[1]Долгое ожидание обслед-ий'!AA3,'[1]Долгое ожидание обслед-ий'!AA5,'[1]Долгое ожидание обслед-ий'!AF5) -> 1 | G5: =SUM('[1]Качество оказания мед. пом.'!V5,'[1]Качество оказания мед. пом.'!AA5,'[1]Качество оказания мед. пом.'!AF5) -> 0 | H5: =SUM('[1]Отказ в оказ. мед. пом.'!V5,'[1]Отказ в оказ. мед. пом.'!AA5,'[1]Отказ в оказ. мед. пом.'!AF5) -> 0 | I5: =SUM('[1]Недостат. инфы'!V5,'[1]Недостат. инфы'!AA5,'[1]Недостат. инфы'!AF5) -> 0 | J5: =SUM('[1]Этика и деонтология'!V5,'[1]Этика и деонтология'!AA5,'[1]Этика и деонтология'!AF5) -> 2 | K5: =SUM('[1]Трансп.доступность'!V5,'[1]Трансп.доступность'!AA5,'[1]Трансп.доступность'!AF5) -> 0 | L5: =SUM('[1]Ремонт. Стройка'!V5,'[1]Ремонт. Стройка'!AA5,'[1]Ремонт. Стройка'!AF3,'[1]Ремонт. Стройка'!AF5) -> 0 | M5: =SUM([1]Оборудование!V5,[1]Оборудование!AA5,[1]Оборудование!AF5) -> 0 | N5: =SUM('[1]Лекарственное обеспечение'!V5,'[1]Лекарственное обеспечение'!AA5,'[1]Лекарственное обеспечение'!AF5) -> 0 | O5: =SUM([1]ВМП!V5,[1]ВМП!AA5,[1]ВМП!AF5) -> 0 | P5: =SUM('[1]Кадры '!V5,'[1]Кадры '!AA5,'[1]Кадры '!AF5) -> 0 | Q5: =SUM([1]Благодарности!V5,[1]Благодарности!AA5,[1]Благодарности!AF5) -> 1 | R5: =SUM([1]Другое!V5,[1]Другое!AA5,[1]Другое!AF5) -> 1 | S5: =SUM(B5:R5) -> 13
A6: ГБУЗС «Гб № 1» Филиал 2 | B6: =SUM('[1]Организация работы МО'!V6,'[1]Организация работы МО'!AA6,'[1]Организация работы МО'!AF6) -> 7 | C6: =SUM('[1]Запись к врачам'!V6,'[1]Запись к врачам'!AA6,'[1]Запись к врачам'!AF6) -> 2 | D6: =SUM('[1]Оформление док-ов'!V6,'[1]Оформление док-ов'!AA6,'[1]Оформление док-ов'!AF6) -> 1 | E6: =SUM('[1]Диспан-ия-Реаб-ия'!V6,'[1]Диспан-ия-Реаб-ия'!AA6,'[1]Диспан-ия-Реаб-ия'!AF6) -> 2 | F6: =SUM('[1]Долгое ожидание обслед-ий'!V6,'[1]Долгое ожидание обслед-ий'!AA4,'[1]Долгое ожидание обслед-ий'!AA6,'[1]Долгое ожидание обслед-ий'!AF6) -> 1 | G6: =SUM('[1]Качество оказания мед. пом.'!V6,'[1]Качество оказания мед. пом.'!AA6,'[1]Качество оказания мед. пом.'!AF6) -> 0 | H6: =SUM('[1]Отказ в оказ. мед. пом.'!V6,'[1]Отказ в оказ. мед. пом.'!AA6,'[1]Отказ в оказ. мед. пом.'!AF6) -> 0 | I6: =SUM('[1]Недостат. инфы'!V6,'[1]Недостат. инфы'!AA6,'[1]Недостат. инфы'!AF6) -> 0 | J6: =SUM('[1]Этика и деонтология'!V6,'[1]Этика и деонтология'!AA6,'[1]Этика и деонтология'!AF6) -> 0 | K6: =SUM('[1]Трансп.доступность'!V6,'[1]Трансп.доступность'!AA6,'[1]Трансп.доступность'!AF6) -> 0 | L6: =SUM('[1]Ремонт. Стройка'!V6,'[1]Ремонт. Стройка'!AA6,'[1]Ремонт. Стройка'!AF4,'[1]Ремонт. Стройка'!AF6) -> 0 | M6: =SUM([1]Оборудование!V6,[1]Оборудование!AA6,[1]Оборудование!AF6) -> 0 | N6: =SUM('[1]Лекарственное обеспечение'!V6,'[1]Лекарственное обеспечение'!AA6,'[1]Лекарственное обеспечение'!AF6) -> 1 | O6: =SUM([1]ВМП!V6,[1]ВМП!AA6,[1]ВМП!AF6) -> 0 | P6: =SUM('[1]Кадры '!V6,'[1]Кадры '!AA6,'[1]Кадры '!AF6) -> 0 | Q6: =SUM([1]Благодарности!V6,[1]Благодарности!AA6,[1]Благодарности!AF6) -> 1 | R6: =SUM([1]Другое!V6,[1]Другое!AA6,[1]Другое!AF6) -> 0 | S6: =SUM(B6:R6) -> 15
A7: ГБУЗС «Городская больница № 4» | B7: =SUM('[1]Организация работы МО'!V7,'[1]Организация работы МО'!AA7,'[1]Организация работы МО'!AF7) -> 6 | C7: =SUM('[1]Запись к врачам'!V7,'[1]Запись к врачам'!AA7,'[1]Запись к врачам'!AF7) -> 2 | D7: =SUM('[1]Оформление док-ов'!V7,'[1]Оформление док-ов'!AA7,'[1]Оформление док-ов'!AF7) -> 0 | E7: =SUM('[1]Диспан-ия-Реаб-ия'!V7,'[1]Диспан-ия-Реаб-ия'!AA7,'[1]Диспан-ия-Реаб-ия'!AF7) -> 0 | F7: =SUM('[1]Долгое ожидание обслед-ий'!V7,'[1]Долгое ожидание обслед-ий'!AA5,'[1]Долгое ожидание обслед-ий'!AA7,'[1]Долгое ожидание обслед-ий'!AF7) -> 0 | G7: =SUM('[1]Качество оказания мед. пом.'!V7,'[1]Качество оказания мед. пом.'!AA7,'[1]Качество оказания мед. пом.'!AF7) -> 0 | H7: =SUM('[1]Отказ в оказ. мед. пом.'!V7,'[1]Отказ в оказ. мед. пом.'!AA7,'[1]Отказ в оказ. мед. пом.'!AF7) -> 0 | I7: =SUM('[1]Недостат. инфы'!V7,'[1]Недостат. инфы'!AA7,'[1]Недостат. инфы'!AF7) -> 0 | J7: =SUM('[1]Этика и деонтология'!V7,'[1]Этика и деонтология'!AA7,'[1]Этика и деонтология'!AF7) -> 0 | K7: =SUM('[1]Трансп.доступность'!V7,'[1]Трансп.доступность'!AA7,'[1]Трансп.доступность'!AF7) -> 0 | L7: =SUM('[1]Ремонт. Стройка'!V7,'[1]Ремонт. Стройка'!AA7,'[1]Ремонт. Стройка'!AF5,'[1]Ремонт. Стройка'!AF7) -> 1 | M7: =SUM([1]Оборудование!V7,[1]Оборудование!AA7,[1]Оборудование!AF7) -> 0 | N7: =SUM('[1]Лекарственное обеспечение'!V7,'[1]Лекарственное обеспечение'!AA7,'[1]Лекарственное обеспечение'!AF7) -> 0 | O7: =SUM([1]ВМП!V7,[1]ВМП!AA7,[1]ВМП!AF7) -> 0 | P7: =SUM('[1]Кадры '!V7,'[1]Кадры '!AA7,'[1]Кадры '!AF7) -> 0 | Q7: =SUM([1]Благодарности!V7,[1]Благодарности!AA7,[1]Благодарности!AF7) -> 1 | R7: =SUM([1]Другое!V7,[1]Другое!AA7,[1]Другое!AF7) -> 0 | S7: =SUM(B7:R7) -> 10
A8: ГБУЗС «Городская больница № 5 – «Центр охраны здоровья матери и ребенка» | B8: =SUM('[1]Организация работы МО'!V8,'[1]Организация работы МО'!AA8,'[1]Организация работы МО'!AF8) -> 21 | C8: =SUM('[1]Запись к врачам'!V8,'[1]Запись к врачам'!AA8,'[1]Запись к врачам'!AF8) -> 13 | D8: =SUM('[1]Оформление док-ов'!V8,'[1]Оформление док-ов'!AA8,'[1]Оформление док-ов'!AF8) -> 0 | E8: =SUM('[1]Диспан-ия-Реаб-ия'!V8,'[1]Диспан-ия-Реаб-ия'!AA8,'[1]Диспан-ия-Реаб-ия'!AF8) -> 0 | F8: =SUM('[1]Долгое ожидание обслед-ий'!V8,'[1]Долгое ожидание обслед-ий'!AA6,'[1]Долгое ожидание обслед-ий'!AA8,'[1]Долгое ожидание обслед-ий'!AF8) -> 0 | G8: =SUM('[1]Качество оказания мед. пом.'!V8,'[1]Качество оказания мед. пом.'!AA8,'[1]Качество оказания мед. пом.'!AF8) -> 5 | H8: =SUM('[1]Отказ в оказ. мед. пом.'!V8,'[1]Отказ в оказ. мед. пом.'!AA8,'[1]Отказ в оказ. мед. пом.'!AF8) -> 4 | I8: =SUM('[1]Недостат. инфы'!V8,'[1]Недостат. инфы'!AA8,'[1]Недостат. инфы'!AF8) -> 0 | J8: =SUM('[1]Этика и деонтология'!V8,'[1]Этика и деонтология'!AA8,'[1]Этика и деонтология'!AF8) -> 2 | K8: =SUM('[1]Трансп.доступность'!V8,'[1]Трансп.доступность'!AA8,'[1]Трансп.доступность'!AF8) -> 0 | L8: =SUM('[1]Ремонт. Стройка'!V8,'[1]Ремонт. Стройка'!AA8,'[1]Ремонт. Стройка'!AF6,'[1]Ремонт. Стройка'!AF8) -> 1 | M8: =SUM([1]Оборудование!V8,[1]Оборудование!AA8,[1]Оборудование!AF8) -> 0 | N8: =SUM('[1]Лекарственное обеспечение'!V8,'[1]Лекарственное обеспечение'!AA8,'[1]Лекарственное обеспечение'!AF8) -> 0 | O8: =SUM([1]ВМП!V8,[1]ВМП!AA8,[1]ВМП!AF8) -> 0 | P8: =SUM('[1]Кадры '!V8,'[1]Кадры '!AA8,'[1]Кадры '!AF8) -> 2 | Q8: =SUM([1]Благодарности!V8,[1]Благодарности!AA8,[1]Благодарности!AF8) -> 6 | R8: =SUM([1]Другое!V8,[1]Другое!AA8,[1]Другое!AF8) -> 9 | S8: =SUM(B8:R8) -> 63
A9: ГБУЗС "Севастопольская городская больница № 9" | B9: =SUM('[1]Организация работы МО'!V9,'[1]Организация работы МО'!AA9,'[1]Организация работы МО'!AF9) -> 16 | C9: =SUM('[1]Запись к врачам'!V9,'[1]Запись к врачам'!AA9,'[1]Запись к врачам'!AF9) -> 4 | D9: =SUM('[1]Оформление док-ов'!V9,'[1]Оформление док-ов'!AA9,'[1]Оформление док-ов'!AF9) -> 0 | E9: =SUM('[1]Диспан-ия-Реаб-ия'!V9,'[1]Диспан-ия-Реаб-ия'!AA9,'[1]Диспан-ия-Реаб-ия'!AF9) -> 0 | F9: =SUM('[1]Долгое ожидание обслед-ий'!V9,'[1]Долгое ожидание обслед-ий'!AA7,'[1]Долгое ожидание обслед-ий'!AA9,'[1]Долгое ожидание обслед-ий'!AF9) -> 2 | G9: =SUM('[1]Качество оказания мед. пом.'!V9,'[1]Качество оказания мед. пом.'!AA9,'[1]Качество оказания мед. пом.'!AF9) -> 1 | H9: =SUM('[1]Отказ в оказ. мед. пом.'!V9,'[1]Отказ в оказ. мед. пом.'!AA9,'[1]Отказ в оказ. мед. пом.'!AF9) -> 0 | I9: =SUM('[1]Недостат. инфы'!V9,'[1]Недостат. инфы'!AA9,'[1]Недостат. инфы'!AF9) -> 0 | J9: =SUM('[1]Этика и деонтология'!V9,'[1]Этика и деонтология'!AA9,'[1]Этика и деонтология'!AF9) -> 0 | K9: =SUM('[1]Трансп.доступность'!V9,'[1]Трансп.доступность'!AA9,'[1]Трансп.доступность'!AF9) -> 0 | L9: =SUM('[1]Ремонт. Стройка'!V9,'[1]Ремонт. Стройка'!AA9,'[1]Ремонт. Стройка'!AF7,'[1]Ремонт. Стройка'!AF9) -> 0 | M9: =SUM([1]Оборудование!V9,[1]Оборудование!AA9,[1]Оборудование!AF9) -> 0 | N9: =SUM('[1]Лекарственное обеспечение'!V9,'[1]Лекарственное обеспечение'!AA9,'[1]Лекарственное обеспечение'!AF9) -> 1 | O9: =SUM([1]ВМП!V9,[1]ВМП!AA9,[1]ВМП!AF9) -> 0 | P9: =SUM('[1]Кадры '!V9,'[1]Кадры '!AA9,'[1]Кадры '!AF9) -> 0 | Q9: =SUM([1]Благодарности!V9,[1]Благодарности!AA9,[1]Благодарности!AF9) -> 15 | R9: =SUM([1]Другое!V9,[1]Другое!AA9,[1]Другое!AF9) -> 3 | S9: =SUM(B9:R9) -> 42
A10: ГБУЗС "Городская инфекционная больница" | B10: =SUM('[1]Организация работы МО'!V10,'[1]Организация работы МО'!AA10,'[1]Организация работы МО'!AF10) -> 2 | C10: =SUM('[1]Запись к врачам'!V10,'[1]Запись к врачам'!AA10,'[1]Запись к врачам'!AF10) -> 0 | D10: =SUM('[1]Оформление док-ов'!V10,'[1]Оформление док-ов'!AA10,'[1]Оформление док-ов'!AF10) -> 0 | E10: =SUM('[1]Диспан-ия-Реаб-ия'!V10,'[1]Диспан-ия-Реаб-ия'!AA10,'[1]Диспан-ия-Реаб-ия'!AF10) -> 0 | F10: =SUM('[1]Долгое ожидание обслед-ий'!V10,'[1]Долгое ожидание обслед-ий'!AA8,'[1]Долгое ожидание обслед-ий'!AA10,'[1]Долгое ожидание обслед-ий'!AF10) -> 0 | G10: =SUM('[1]Качество оказания мед. пом.'!V10,'[1]Качество оказания мед. пом.'!AA10,'[1]Качество оказания мед. пом.'!AF10) -> 1 | H10: =SUM('[1]Отказ в оказ. мед. пом.'!V10,'[1]Отказ в оказ. мед. пом.'!AA10,'[1]Отказ в оказ. мед. пом.'!AF10) -> 0 | I10: =SUM('[1]Недостат. инфы'!V10,'[1]Недостат. инфы'!AA10,'[1]Недостат. инфы'!AF10) -> 0 | J10: =SUM('[1]Этика и деонтология'!V10,'[1]Этика и деонтология'!AA10,'[1]Этика и деонтология'!AF10) -> 1 | K10: =SUM('[1]Трансп.доступность'!V10,'[1]Трансп.доступность'!AA10,'[1]Трансп.доступность'!AF10) -> 0 | L10: =SUM('[1]Ремонт. Стройка'!V10,'[1]Ремонт. Стройка'!AA10,'[1]Ремонт. Стройка'!AF8,'[1]Ремонт. Стройка'!AF10) -> 0 | M10: =SUM([1]Оборудование!V10,[1]Оборудование!AA10,[1]Оборудование!AF10) -> 0 | N10: =SUM('[1]Лекарственное обеспечение'!V10,'[1]Лекарственное обеспечение'!AA10,'[1]Лекарственное обеспечение'!AF10) -> 0 | O10: =SUM([1]ВМП!V10,[1]ВМП!AA10,[1]ВМП!AF10) -> 0 | P10: =SUM('[1]Кадры '!V10,'[1]Кадры '!AA10,'[1]Кадры '!AF10) -> 0 | Q10: =SUM([1]Благодарности!V10,[1]Благодарности!AA10,[1]Благодарности!AF10) -> 1 | R10: =SUM([1]Другое!V10,[1]Другое!AA10,[1]Другое!AF10) -> 0 | S10: =SUM(B10:R10) -> 5
A11: ГБУЗС «Севастопольская городская психиатрическая больница» | B11: =SUM('[1]Организация работы МО'!V11,'[1]Организация работы МО'!AA11,'[1]Организация работы МО'!AF11) -> 9 | C11: =SUM('[1]Запись к врачам'!V11,'[1]Запись к врачам'!AA11,'[1]Запись к врачам'!AF11) -> 0 | D11: =SUM('[1]Оформление док-ов'!V11,'[1]Оформление док-ов'!AA11,'[1]Оформление док-ов'!AF11) -> 0 | E11: =SUM('[1]Диспан-ия-Реаб-ия'!V11,'[1]Диспан-ия-Реаб-ия'!AA11,'[1]Диспан-ия-Реаб-ия'!AF11) -> 0 | F11: =SUM('[1]Долгое ожидание обслед-ий'!V11,'[1]Долгое ожидание обслед-ий'!AA9,'[1]Долгое ожидание обслед-ий'!AA11,'[1]Долгое ожидание обслед-ий'!AF11) -> 0 | G11: =SUM('[1]Качество оказания мед. пом.'!V11,'[1]Качество оказания мед. пом.'!AA11,'[1]Качество оказания мед. пом.'!AF11) -> 0 | H11: =SUM('[1]Отказ в оказ. мед. пом.'!V11,'[1]Отказ в оказ. мед. пом.'!AA11,'[1]Отказ в оказ. мед. пом.'!AF11) -> 1 | I11: =SUM('[1]Недостат. инфы'!V11,'[1]Недостат. инфы'!AA11,'[1]Недостат. инфы'!AF11) -> 0 | J11: =SUM('[1]Этика и деонтология'!V11,'[1]Этика и деонтология'!AA11,'[1]Этика и деонтология'!AF11) -> 0 | K11: =SUM('[1]Трансп.доступность'!V11,'[1]Трансп.доступность'!AA11,'[1]Трансп.доступность'!AF11) -> 0 | L11: =SUM('[1]Ремонт. Стройка'!V11,'[1]Ремонт. Стройка'!AA11,'[1]Ремонт. Стройка'!AF9,'[1]Ремонт. Стройка'!AF11) -> 0 | M11: =SUM([1]Оборудование!V11,[1]Оборудование!AA11,[1]Оборудование!AF11) -> 0 | N11: =SUM('[1]Лекарственное обеспечение'!V11,'[1]Лекарственное обеспечение'!AA11,'[1]Лекарственное обеспечение'!AF11) -> 0 | O11: =SUM([1]ВМП!V11,[1]ВМП!AA11,[1]ВМП!AF11) -> 0 | P11: =SUM('[1]Кадры '!V11,'[1]Кадры '!AA11,'[1]Кадры '!AF11) -> 0 | Q11: =SUM([1]Благодарности!V11,[1]Благодарности!AA11,[1]Благодарности!AF11) -> 2 | R11: =SUM([1]Другое!V11,[1]Другое!AA11,[1]Другое!AF11) -> 2 | S11: =SUM(B11:R11) -> 14
A12: ГБУЗС «Севастопольский противотуберкулезный диспансер» | B12: =SUM('[1]Организация работы МО'!V12,'[1]Организация работы МО'!AA12,'[1]Организация работы МО'!AF12) -> 3 | C12: =SUM('[1]Запись к врачам'!V12,'[1]Запись к врачам'!AA12,'[1]Запись к врачам'!AF12) -> 0 | D12: =SUM('[1]Оформление док-ов'!V12,'[1]Оформление док-ов'!AA12,'[1]Оформление док-ов'!AF12) -> 0 | E12: =SUM('[1]Диспан-ия-Реаб-ия'!V12,'[1]Диспан-ия-Реаб-ия'!AA12,'[1]Диспан-ия-Реаб-ия'!AF12) -> 0 | F12: =SUM('[1]Долгое ожидание обслед-ий'!V12,'[1]Долгое ожидание обслед-ий'!AA10,'[1]Долгое ожидание обслед-ий'!AA12,'[1]Долгое ожидание обслед-ий'!AF12) -> 0 | G12: =SUM('[1]Качество оказания мед. пом.'!V12,'[1]Качество оказания мед. пом.'!AA12,'[1]Качество оказания мед. пом.'!AF12) -> 0 | H12: =SUM('[1]Отказ в оказ. мед. пом.'!V12,'[1]Отказ в оказ. мед. пом.'!AA12,'[1]Отказ в оказ. мед. пом.'!AF12) -> 0 | I12: =SUM('[1]Недостат. инфы'!V12,'[1]Недостат. инфы'!AA12,'[1]Недостат. инфы'!AF12) -> 0 | J12: =SUM('[1]Этика и деонтология'!V12,'[1]Этика и деонтология'!AA12,'[1]Этика и деонтология'!AF12) -> 0 | K12: =SUM('[1]Трансп.доступность'!V12,'[1]Трансп.доступность'!AA12,'[1]Трансп.доступность'!AF12) -> 0 | L12: =SUM('[1]Ремонт. Стройка'!V12,'[1]Ремонт. Стройка'!AA12,'[1]Ремонт. Стройка'!AF10,'[1]Ремонт. Стройка'!AF12) -> 0 | M12: =SUM([1]Оборудование!V12,[1]Оборудование!AA12,[1]Оборудование!AF12) -> 0 | N12: =SUM('[1]Лекарственное обеспечение'!V12,'[1]Лекарственное обеспечение'!AA12,'[1]Лекарственное обеспечение'!AF12) -> 0 | O12: =SUM([1]ВМП!V12,[1]ВМП!AA12,[1]ВМП!AF12) -> 0 | P12: =SUM('[1]Кадры '!V12,'[1]Кадры '!AA12,'[1]Кадры '!AF12) -> 0 | Q12: =SUM([1]Благодарности!V12,[1]Благодарности!AA12,[1]Благодарности!AF12) -> 0 | R12: =SUM([1]Другое!V12,[1]Другое!AA12,[1]Другое!AF12) -> 0 | S12: =SUM(B12:R12) -> 3
A13: ГБУЗС «Кожно-венерологический диспансер» | B13: =SUM('[1]Организация работы МО'!V13,'[1]Организация работы МО'!AA13,'[1]Организация работы МО'!AF13) -> 2 | C13: =SUM('[1]Запись к врачам'!V13,'[1]Запись к врачам'!AA13,'[1]Запись к врачам'!AF13) -> 0 | D13: =SUM('[1]Оформление док-ов'!V13,'[1]Оформление док-ов'!AA13,'[1]Оформление док-ов'!AF13) -> 0 | E13: =SUM('[1]Диспан-ия-Реаб-ия'!V13,'[1]Диспан-ия-Реаб-ия'!AA13,'[1]Диспан-ия-Реаб-ия'!AF13) -> 0 | F13: =SUM('[1]Долгое ожидание обслед-ий'!V13,'[1]Долгое ожидание обслед-ий'!AA11,'[1]Долгое ожидание обслед-ий'!AA13,'[1]Долгое ожидание обслед-ий'!AF13) -> 0 | G13: =SUM('[1]Качество оказания мед. пом.'!V13,'[1]Качество оказания мед. пом.'!AA13,'[1]Качество оказания мед. пом.'!AF13) -> 0 | H13: =SUM('[1]Отказ в оказ. мед. пом.'!V13,'[1]Отказ в оказ. мед. пом.'!AA13,'[1]Отказ в оказ. мед. пом.'!AF13) -> 1 | I13: =SUM('[1]Недостат. инфы'!V13,'[1]Недостат. инфы'!AA13,'[1]Недостат. инфы'!AF13) -> 0 | J13: =SUM('[1]Этика и деонтология'!V13,'[1]Этика и деонтология'!AA13,'[1]Этика и деонтология'!AF13) -> 0 | K13: =SUM('[1]Трансп.доступность'!V13,'[1]Трансп.доступность'!AA13,'[1]Трансп.доступность'!AF13) -> 0 | L13: =SUM('[1]Ремонт. Стройка'!V13,'[1]Ремонт. Стройка'!AA13,'[1]Ремонт. Стройка'!AF11,'[1]Ремонт. Стройка'!AF13) -> 0 | M13: =SUM([1]Оборудование!V13,[1]Оборудование!AA13,[1]Оборудование!AF13) -> 0 | N13: =SUM('[1]Лекарственное обеспечение'!V13,'[1]Лекарственное обеспечение'!AA13,'[1]Лекарственное обеспечение'!AF13) -> 0 | O13: =SUM([1]ВМП!V13,[1]ВМП!AA13,[1]ВМП!AF13) -> 0 | P13: =SUM('[1]Кадры '!V13,'[1]Кадры '!AA13,'[1]Кадры '!AF13) -> 0 | Q13: =SUM([1]Благодарности!V13,[1]Благодарности!AA13,[1]Благодарности!AF13) -> 0 | R13: =SUM([1]Другое!V13,[1]Другое!AA13,[1]Другое!AF13) -> 0 | S13: =SUM(B13:R13) -> 3
A14: ГБУЗС «Севастопольский городской онкологический диспансер имени А.А. Задорожного» | B14: =SUM('[1]Организация работы МО'!V14,'[1]Организация работы МО'!AA14,'[1]Организация работы МО'!AF14) -> 4 | C14: =SUM('[1]Запись к врачам'!V14,'[1]Запись к врачам'!AA14,'[1]Запись к врачам'!AF14) -> 0 | D14: =SUM('[1]Оформление док-ов'!V14,'[1]Оформление док-ов'!AA14,'[1]Оформление док-ов'!AF14) -> 0 | E14: =SUM('[1]Диспан-ия-Реаб-ия'!V14,'[1]Диспан-ия-Реаб-ия'!AA14,'[1]Диспан-ия-Реаб-ия'!AF14) -> 0 | F14: =SUM('[1]Долгое ожидание обслед-ий'!V14,'[1]Долгое ожидание обслед-ий'!AA12,'[1]Долгое ожидание обслед-ий'!AA14,'[1]Долгое ожидание обслед-ий'!AF14) -> 1 | G14: =SUM('[1]Качество оказания мед. пом.'!V14,'[1]Качество оказания мед. пом.'!AA14,'[1]Качество оказания мед. пом.'!AF14) -> 0 | H14: =SUM('[1]Отказ в оказ. мед. пом.'!V14,'[1]Отказ в оказ. мед. пом.'!AA14,'[1]Отказ в оказ. мед. пом.'!AF14) -> 0 | I14: =SUM('[1]Недостат. инфы'!V14,'[1]Недостат. инфы'!AA14,'[1]Недостат. инфы'!AF14) -> 0 | J14: =SUM('[1]Этика и деонтология'!V14,'[1]Этика и деонтология'!AA14,'[1]Этика и деонтология'!AF14) -> 0 | K14: =SUM('[1]Трансп.доступность'!V14,'[1]Трансп.доступность'!AA14,'[1]Трансп.доступность'!AF14) -> 0 | L14: =SUM('[1]Ремонт. Стройка'!V14,'[1]Ремонт. Стройка'!AA14,'[1]Ремонт. Стройка'!AF12,'[1]Ремонт. Стройка'!AF14) -> 0 | M14: =SUM([1]Оборудование!V14,[1]Оборудование!AA14,[1]Оборудование!AF14) -> 1 | N14: =SUM('[1]Лекарственное обеспечение'!V14,'[1]Лекарственное обеспечение'!AA14,'[1]Лекарственное обеспечение'!AF14) -> 1 | O14: =SUM([1]ВМП!V14,[1]ВМП!AA14,[1]ВМП!AF14) -> 0 | P14: =SUM('[1]Кадры '!V14,'[1]Кадры '!AA14,'[1]Кадры '!AF14) -> 0 | Q14: =SUM([1]Благодарности!V14,[1]Благодарности!AA14,[1]Благодарности!AF14) -> 1 | R14: =SUM([1]Другое!V14,[1]Другое!AA14,[1]Другое!AF14) -> 0 | S14: =SUM(B14:R14) -> 8
A15: ГБУЗС Врачебно-физкультурный диспансер» | B15: =SUM('[1]Организация работы МО'!V15,'[1]Организация работы МО'!AA15,'[1]Организация работы МО'!AF15) -> 0 | C15: =SUM('[1]Запись к врачам'!V15,'[1]Запись к врачам'!AA15,'[1]Запись к врачам'!AF15) -> 0 | D15: =SUM('[1]Оформление док-ов'!V15,'[1]Оформление док-ов'!AA15,'[1]Оформление док-ов'!AF15) -> 0 | E15: =SUM('[1]Диспан-ия-Реаб-ия'!V15,'[1]Диспан-ия-Реаб-ия'!AA15,'[1]Диспан-ия-Реаб-ия'!AF15) -> 0 | F15: =SUM('[1]Долгое ожидание обслед-ий'!V15,'[1]Долгое ожидание обслед-ий'!AA13,'[1]Долгое ожидание обслед-ий'!AA15,'[1]Долгое ожидание обслед-ий'!AF15) -> 0 | G15: =SUM('[1]Качество оказания мед. пом.'!V15,'[1]Качество оказания мед. пом.'!AA15,'[1]Качество оказания мед. пом.'!AF15) -> 0 | H15: =SUM('[1]Отказ в оказ. мед. пом.'!V15,'[1]Отказ в оказ. мед. пом.'!AA15,'[1]Отказ в оказ. мед. пом.'!AF15) -> 0 | I15: =SUM('[1]Недостат. инфы'!V15,'[1]Недостат. инфы'!AA15,'[1]Недостат. инфы'!AF15) -> 0 | J15: =SUM('[1]Этика и деонтология'!V15,'[1]Этика и деонтология'!AA15,'[1]Этика и деонтология'!AF15) -> 0 | K15: =SUM('[1]Трансп.доступность'!V15,'[1]Трансп.доступность'!AA15,'[1]Трансп.доступность'!AF15) -> 0 | L15: =SUM('[1]Ремонт. Стройка'!V15,'[1]Ремонт. Стройка'!AA15,'[1]Ремонт. Стройка'!AF13,'[1]Ремонт. Стройка'!AF15) -> 0 | M15: =SUM([1]Оборудование!V15,[1]Оборудование!AA15,[1]Оборудование!AF15) -> 0 | N15: =SUM('[1]Лекарственное обеспечение'!V15,'[1]Лекарственное обеспечение'!AA15,'[1]Лекарственное обеспечение'!AF15) -> 0 | O15: =SUM([1]ВМП!V15,[1]ВМП!AA15,[1]ВМП!AF15) -> 0 | P15: =SUM('[1]Кадры '!V15,'[1]Кадры '!AA15,'[1]Кадры '!AF15) -> 0 | Q15: =SUM([1]Благодарности!V15,[1]Благодарности!AA15,[1]Благодарности!AF15) -> 0 | R15: =SUM([1]Другое!V15,[1]Другое!AA15,[1]Другое!AF15) -> 0 | S15: =SUM(B15:R15) -> 0
... A28: Дом малютки | B28: =SUM('[1]Организация работы МО'!V28,'[1]Организация работы МО'!AA28,'[1]Организация работы МО'!AF28) -> 0 | C28: =SUM('[1]Запись к врачам'!V28,'[1]Запись к врачам'!AA28,'[1]Запись к врачам'!AF28) -> 0 | D28: =SUM('[1]Оформление док-ов'!V28,'[1]Оформление док-ов'!AA28,'[1]Оформление док-ов'!AF28) -> 0 | E28: =SUM('[1]Диспан-ия-Реаб-ия'!V28,'[1]Диспан-ия-Реаб-ия'!AA28,'[1]Диспан-ия-Реаб-ия'!AF28) -> 0 | F28: =SUM('[1]Долгое ожидание обслед-ий'!V28,'[1]Долгое ожидание обслед-ий'!AA26,'[1]Долгое ожидание обслед-ий'!AA28,'[1]Долгое ожидание обслед-ий'!AF28) -> 0 | G28: =SUM('[1]Качество оказания мед. пом.'!V28,'[1]Качество оказания мед. пом.'!AA28,'[1]Качество оказания мед. пом.'!AF28) -> 0 | H28: =SUM('[1]Отказ в оказ. мед. пом.'!V28,'[1]Отказ в оказ. мед. пом.'!AA28,'[1]Отказ в оказ. мед. пом.'!AF28) -> 0 | I28: =SUM('[1]Недостат. инфы'!V28,'[1]Недостат. инфы'!AA28,'[1]Недостат. инфы'!AF28) -> 0 | J28: =SUM('[1]Этика и деонтология'!V28,'[1]Этика и деонтология'!AA28,'[1]Этика и деонтология'!AF28) -> 0 | K28: =SUM('[1]Трансп.доступность'!V28,'[1]Трансп.доступность'!AA28,'[1]Трансп.доступность'!AF28) -> 0 | L28: =SUM('[1]Ремонт. Стройка'!V28,'[1]Ремонт. Стройка'!AA28,'[1]Ремонт. Стройка'!AF26,'[1]Ремонт. Стройка'!AF28) -> 0 | M28: =SUM([1]Оборудование!V28,[1]Оборудование!AA28,[1]Оборудование!AF28) -> 0 | N28: =SUM('[1]Лекарственное обеспечение'!V28,'[1]Лекарственное обеспечение'!AA28,'[1]Лекарственное обеспечение'!AF28) -> 0 | O28: =SUM([1]ВМП!V28,[1]ВМП!AA28,[1]ВМП!AF28) -> 0 | P28: =SUM('[1]Кадры '!V28,'[1]Кадры '!AA28,'[1]Кадры '!AF28) -> 0 | Q28: =SUM([1]Благодарности!V28,[1]Благодарности!AA28,[1]Благодарности!AF28) -> 0 | R28: =SUM([1]Другое!V28,[1]Другое!AA28,[1]Другое!AF28) -> 0 | S28: =SUM(B28:R28) -> 0
A29: Всего | B29: =SUM(B4:B28) -> 164 | C29: =SUM(C4:C28) -> 35 | D29: =SUM(D4:D28) -> 3 | E29: =SUM(E4:E28) -> 4 | F29: =SUM(F4:F28) -> 12 | G29: =SUM(G4:G28) -> 20 | H29: =SUM(H4:H28) -> 15 | I29: =SUM(I4:I28) -> 0 | ... R29: =SUM(R4:R28) -> 94 | S29: =SUM(B29:R29) -> 481
