Workbook

Sheet Свод
A1: Медицинская организация | B1: Организация работы МО | C1: Запись к врачам | D1: Оформление документов | E1: Диспансеризация/Реабилитация | F1: Долгое ожидание обследования | G1: Качество оказания МП | H1: Отказ в оказании МП | I1: Недоступность информации | J1: Этика и деонтология | K1: Транспортная доступность | L1: Ремонт/Строительство | M1: Оборудование | N1: Лекарственное обеспечение | O1: ВМП | P1: Кадры | Q1: Благодарности | R1: Другое | S1: Итого
A4: ГБУЗС «Городская больница № 1 им. Н.И. Пирогова» | B4: =SUM('[1]Организация работы МО'!K4,'[1]Организация работы МО'!F4,'[1]Организация работы МО'!P4) -> 42 | C4: =SUM('[1]Запись к врачам'!F4,'[1]Запись к врачам'!K4,'[1]Запись к врачам'!P4) -> 5 | D4: =SUM('[1]Оформление док-ов'!F4,'[1]Оформление док-ов'!K4,'[1]Оформление док-ов'!P4) -> 4 | E4: =SUM('[1]Диспан-ия-Реаб-ия'!F4,'[1]Диспан-ия-Реаб-ия'!K4,'[1]Диспан-ия-Реаб-ия'!P4) -> 2 | F4: =SUM('[1]Долгое ожидание обслед-ий'!F4,'[1]Долгое ожидание обслед-ий'!K4,'[1]Долгое ожидание обслед-ий'!Q4) -> 6 | G4: =SUM('[1]Качество оказания мед. пом.'!F4,'[1]Качество оказания мед. пом.'!K4,'[1]Качество оказания мед. пом.'!Q4) -> 31 | H4: =SUM('[1]Отказ в оказ. мед. пом.'!F4,'[1]Отказ в оказ. мед. пом.'!K4,'[1]Отказ в оказ. мед. пом.'!Q4) -> 7 | I4: =SUM('[1]Недостат. инфы'!F4,'[1]Недостат. инфы'!K4,'[1]Недостат. инфы'!Q4) -> 0 | J4: =SUM('[1]Этика и деонтология'!F4,'[1]Этика и деонтология'!K4,'[1]Этика и деонтология'!Q4) -> 0 | K4: =SUM('[1]Трансп.доступность'!F4,'[1]Трансп.доступность'!K4,'[1]Трансп.доступность'!Q4) -> 0 | L4: =SUM('[1]Ремонт. Стройка'!F4,'[1]Ремонт. Стройка'!K4,'[1]Ремонт. Стройка'!Q4) -> 0 | M4: =SUM([1]Оборудование!F4,[1]Оборудование!K4,[1]Оборудование!Q4) -> 0 | N4: =SUM('[1]Лекарственное обеспечение'!F4,'[1]Лекарственное обеспечение'!K4,'[1]Лекарственное обеспечение'!P4) -> 1 | O4: =SUM([1]ВМП!F4,[1]ВМП!K4,[1]ВМП!Q4) -> 0 | P4: =SUM('[1]Кадры '!F4,'[1]Кадры '!K4,'[1]Кадры '!Q4) -> 0 | Q4: =SUM([1]Благодарности!F4,[1]Благодарности!K4,[1]Благодарности!P4) -> 7 | R4: =SUM([1]Другое!F4,[1]Другое!K4,[1]Другое!P4) -> 4 | S4: =SUM(B4:R4) -> 109
A5: ГБУЗС «ГБ № 1» Филиал 1 | B5: =SUM('[1]Организация работы МО'!K5,'[1]Организация работы МО'!F5,'[1]Организация работы МО'!P5) -> 5 | C5: =SUM('[1]Запись к врачам'!F5,'[1]Запись к врачам'!K5,'[1]Запись к врачам'!P5) -> 1 | D5: =SUM('[1]Оформление док-ов'!F5,'[1]Оформление док-ов'!K5,'[1]Оформление док-ов'!P5) -> 2 | E5: =SUM('[1]Диспан-ия-Реаб-ия'!F5,'[1]Диспан-ия-Реаб-ия'!K5,'[1]Диспан-ия-Реаб-ия'!P5) -> 1 | F5: =SUM('[1]Долгое ожидание обслед-ий'!F5,'[1]Долгое ожидание обслед-ий'!K5,'[1]Долгое ожидание обслед-ий'!Q5) -> 0 | G5: =SUM('[1]Качество оказания мед. пом.'!F5,'[1]Качество оказания мед. пом.'!K5,'[1]Качество оказания мед. пом.'!Q5) -> 1 | H5: =SUM('[1]Отказ в оказ. мед. пом.'!F5,'[1]Отказ в оказ. мед. пом.'!K5,'[1]Отказ в оказ. мед. пом.'!Q5) -> 0 | I5: =SUM('[1]Недостат. инфы'!F5,'[1]Недостат. инфы'!K5,'[1]Недостат. инфы'!Q5) -> 0 | J5: =SUM('[1]Этика и деонтология'!F5,'[1]Этика и деонтология'!K5,'[1]Этика и деонтология'!Q5) -> 2 | K5: =SUM('[1]Трансп.доступность'!F5,'[1]Трансп.доступность'!K5,'[1]Трансп.доступность'!Q5) -> 0 | L5: =SUM('[1]Ремонт. Стройка'!F5,'[1]Ремонт. Стройка'!K5,'[1]Ремонт. Стройка'!Q5) -> 0 | M5: =SUM([1]Оборудование!F5,[1]Оборудование!K5,[1]Оборудование!Q5) -> 0 | N5: =SUM('[1]Лекарственное обеспечение'!F5,'[1]Лекарственное обеспечение'!K5,'[1]Лекарственное обеспечение'!P5) -> 2 | O5: =SUM([1]ВМП!F5,[1]ВМП!K5,[1]ВМП!Q5) -> 0 | P5: =SUM('[1]Кадры '!F5,'[1]Кадры '!K5,'[1]Кадры '!Q5) -> 0 | Q5: =SUM([1]Благодарности!F5,[1]Благодарности!K5,[1]Благодарности!P5) -> 0 | R5: =SUM([1]Другое!F5,[1]Другое!K5,[1]Другое!P5) -> 0 | S5: =SUM(B5:R5) -> 14
A6: ГБУЗС «Гб № 1» Филиал 2 | B6: =SUM('[1]Организация работы МО'!K6,'[1]Организация работы МО'!F6,'[1]Организация работы МО'!P6) -> 7 | C6: =SUM('[1]Запись к врачам'!F6,'[1]Запись к врачам'!K6,'[1]Запись к врачам'!P6) -> 0 | D6: =SUM('[1]Оформление док-ов'!F6,'[1]Оформление док-ов'!K6,'[1]Оформление док-ов'!P6) -> 0 | E6: =SUM('[1]Диспан-ия-Реаб-ия'!F6,'[1]Диспан-ия-Реаб-ия'!K6,'[1]Диспан-ия-Реаб-ия'!P6) -> 1 | F6: =SUM('[1]Долгое ожидание обслед-ий'!F6,'[1]Долгое ожидание обслед-ий'!K6,'[1]Долгое ожидание обслед-ий'!Q6) -> 0 | G6: =SUM('[1]Качество оказания мед. пом.'!F6,'[1]Качество оказания мед. пом.'!K6,'[1]Качество оказания мед. пом.'!Q6) -> 3 | H6: =SUM('[1]Отказ в оказ. мед. пом.'!F6,'[1]Отказ в оказ. мед. пом.'!K6,'[1]Отказ в оказ. мед. пом.'!Q6) -> 4 | I6: =SUM('[1]Недостат. инфы'!F6,'[1]Недостат. инфы'!K6,'[1]Недостат. инфы'!Q6) -> 0 | J6: =SUM('[1]Этика и деонтология'!F6,'[1]Этика и деонтология'!K6,'[1]Этика и деонтология'!Q6) -> 3 | K6: =SUM('[1]Трансп.доступность'!F6,'[1]Трансп.доступность'!K6,'[1]Трансп.доступность'!Q6) -> 0 | L6: =SUM('[1]Ремонт. Стройка'!F6,'[1]Ремонт. Стройка'!K6,'[1]Ремонт. Стройка'!Q6) -> 0 | M6: =SUM([1]Оборудование!F6,[1]Оборудование!K6,[1]Оборудование!Q6) -> 0 | N6: =SUM('[1]Лекарственное обеспечение'!F6,'[1]Лекарственное обеспечение'!K6,'[1]Лекарственное обеспечение'!P6) -> 0 | O6: =SUM([1]ВМП!F6,[1]ВМП!K6,[1]ВМП!Q6) -> 0 | P6: =SUM('[1]Кадры '!F6,'[1]Кадры '!K6,'[1]Кадры '!Q6) -> 0 | Q6: =SUM([1]Благодарности!F6,[1]Благодарности!K6,[1]Благодарности!P6) -> 0 | R6: =SUM([1]Другое!F6,[1]Другое!K6,[1]Другое!P6) -> 0 | S6: =SUM(B6:R6) -> 18
A7: ГБУЗС «Городская больница № 4» | B7: =SUM('[1]Организация работы МО'!K7,'[1]Организация работы МО'!F7,'[1]Организация работы МО'!P7) -> 10 | C7: =SUM('[1]Запись к врачам'!F7,'[1]Запись к врачам'!K7,'[1]Запись к врачам'!P7) -> 0 | D7: =SUM('[1]Оформление док-ов'!F7,'[1]Оформление док-ов'!K7,'[1]Оформление док-ов'!P7) -> 0 | E7: =SUM('[1]Диспан-ия-Реаб-ия'!F7,'[1]Диспан-ия-Реаб-ия'!K7,'[1]Диспан-ия-Реаб-ия'!P7) -> 1 | F7: =SUM('[1]Долгое ожидание обслед-ий'!F7,'[1]Долгое ожидание обслед-ий'!K7,'[1]Долгое ожидание обслед-ий'!Q7) -> 0 | G7: =SUM('[1]Качество оказания мед. пом.'!F7,'[1]Качество оказания мед. пом.'!K7,'[1]Качество оказания мед. пом.'!Q7) -> 1 | H7: =SUM('[1]Отказ в оказ. мед. пом.'!F7,'[1]Отказ в оказ. мед. пом.'!K7,'[1]Отказ в оказ. мед. пом.'!Q7) -> 0 | I7: =SUM('[1]Недостат. инфы'!F7,'[1]Недостат. инфы'!K7,'[1]Недостат. инфы'!Q7) -> 0 | J7: =SUM('[1]Этика и деонтология'!F7,'[1]Этика и деонтология'!K7,'[1]Этика и деонтология'!Q7) -> 0 | K7: =SUM('[1]Трансп.доступность'!F7,'[1]Трансп.доступность'!K7,'[1]Трансп.доступность'!Q7) -> 0 | L7: =SUM('[1]Ремонт. Стройка'!F7,'[1]Ремонт. Стройка'!K7,'[1]Ремонт. Стройка'!Q7) -> 0 | M7: =SUM([1]Оборудование!F7,[1]Оборудование!K7,[1]Оборудование!Q7) -> 0 | N7: =SUM('[1]Лекарственное обеспечение'!F7,'[1]Лекарственное обеспечение'!K7,'[1]Лекарственное обеспечение'!P7) -> 0 | O7: =SUM([1]ВМП!F7,[1]ВМП!K7,[1]ВМП!Q7) -> 0 | P7: =SUM('[1]Кадры '!F7,'[1]Кадры '!K7,'[1]Кадры '!Q7) -> 0 | Q7: =SUM([1]Благодарности!F7,[1]Благодарности!K7,[1]Благодарности!P7) -> 0 | R7: =SUM([1]Другое!F7,[1]Другое!K7,[1]Другое!P7) -> 0 | S7: =SUM(B7:R7) -> 12
A8: ГБУЗС «Городская больница № 5 – «Центр охраны здоровья матери и ребенка» | B8: =SUM('[1]Организация работы МО'!K8,'[1]Организация работы МО'!F8,'[1]Организация работы МО'!P8) -> 17 | C8: =SUM('[1]Запись к врачам'!F8,'[1]Запись к врачам'!K8,'[1]Запись к врачам'!P8) -> 3 | D8: =SUM('[1]Оформление док-ов'!F8,'[1]Оформление док-ов'!K8,'[1]Оформление док-ов'!P8) -> 1 | E8: =SUM('[1]Диспан-ия-Реаб-ия'!F8,'[1]Диспан-ия-Реаб-ия'!K8,'[1]Диспан-ия-Реаб-ия'!P8) -> 2 | F8: =SUM('[1]Долгое ожидание обслед-ий'!F8,'[1]Долгое ожидание обслед-ий'!K8,'[1]Долгое ожидание обслед-ий'!Q8) -> 1 | G8: =SUM('[1]Качество оказания мед. пом.'!F8,'[1]Качество оказания мед. пом.'!K8,'[1]Качество оказания мед. пом.'!Q8) -> 6 | H8: =SUM('[1]Отказ в оказ. мед. пом.'!F8,'[1]Отказ в оказ. мед. пом.'!K8,'[1]Отказ в оказ. мед. пом.'!Q8) -> 5 | I8: =SUM('[1]Недостат. инфы'!F8,'[1]Недостат. инфы'!K8,'[1]Недостат. инфы'!Q8) -> 0 | J8: =SUM('[1]Этика и деонтология'!F8,'[1]Этика и деонтология'!K8,'[1]Этика и деонтология'!Q8) -> 2 | K8: =SUM('[1]Трансп.доступность'!F8,'[1]Трансп.доступность'!K8,'[1]Трансп.доступность'!Q8) -> 0 | L8: =SUM('[1]Ремонт. Стройка'!F8,'[1]Ремонт. Стройка'!K8,'[1]Ремонт. Стройка'!Q8) -> 0 | M8: =SUM([1]Оборудование!F8,[1]Оборудование!K8,[1]Оборудование!Q8) -> 0 | N8: =SUM('[1]Лекарственное обеспечение'!F8,'[1]Лекарственное обеспечение'!K8,'[1]Лекарственное обеспечение'!P8) -> 1 | O8: =SUM([1]ВМП!F8,[1]ВМП!K8,[1]ВМП!Q8) -> 0 | P8: =SUM('[1]Кадры '!F8,'[1]Кадры '!K8,'[1]Кадры '!Q8) -> 0 | Q8: =SUM([1]Благодарности!F8,[1]Благодарности!K8,[1]Благодарности!P8) -> 1 | R8: =SUM([1]Другое!F8,[1]Другое!K8,[1]Другое!P8) -> 5 | S8: =SUM(B8:R8) -> 44
A9: ГБУЗС "Севастопольская городская больница № 9" | B9: =SUM('[1]Организация работы МО'!K9,'[1]Организация работы МО'!F9,'[1]Организация работы МО'!P9) -> 7 | C9: =SUM('[1]Запись к врачам'!F9,'[1]Запись к врачам'!K9,'[1]Запись к врачам'!P9) -> 1 | D9: =SUM('[1]Оформление док-ов'!F9,'[1]Оформление док-ов'!K9,'[1]Оформление док-ов'!P9) -> 2 | E9: =SUM('[1]Диспан-ия-Реаб-ия'!F9,'[1]Диспан-ия-Реаб-ия'!K9,'[1]Диспан-ия-Реаб-ия'!P9) -> 0 | F9: =SUM('[1]Долгое ожидание обслед-ий'!F9,'[1]Долгое ожидание обслед-ий'!K9,'[1]Долгое ожидание обслед-ий'!Q9) -> 0 | G9: =SUM('[1]Качество оказания мед. пом.'!F9,'[1]Качество оказания мед. пом.'!K9,'[1]Качество оказания мед. пом.'!Q9) -> 1 | H9: =SUM('[1]Отказ в оказ. мед. пом.'!F9,'[1]Отказ в оказ. мед. пом.'!K9,'[1]Отказ в оказ. мед. пом.'!Q9) -> 1 | I9: =SUM('[1]Недостат. инфы'!F9,'[1]Недостат. инфы'!K9,'[1]Недостат. инфы'!Q9) -> 0 | J9: =SUM('[1]Этика и деонтология'!F9,'[1]Этика и деонтология'!K9,'[1]Этика и деонтология'!Q9) -> 0 | K9: =SUM('[1]Трансп.доступность'!F9,'[1]Трансп.доступность'!K9,'[1]Трансп.доступность'!Q9) -> 0 | L9: =SUM('[1]Ремонт. Стройка'!F9,'[1]Ремонт. Стройка'!K9,'[1]Ремонт. Стройка'!Q9) -> 0 | M9: =SUM([1]Оборудование!F9,[1]Оборудование!K9,[1]Оборудование!Q9) -> 0 | N9: =SUM('[1]Лекарственное обеспечение'!F9,'[1]Лекарственное обеспечение'!K9,'[1]Лекарственное обеспечение'!P9) -> 0 | O9: =SUM([1]ВМП!F9,[1]ВМП!K9,[1]ВМП!Q9) -> 1 | P9: =SUM('[1]Кадры '!F9,'[1]Кадры '!K9,'[1]Кадры '!Q9) -> 0 | Q9: =SUM([1]Благодарности!F9,[1]Благодарности!K9,[1]Благодарности!P9) -> 7 | R9: =SUM([1]Другое!F9,[1]Другое!K9,[1]Другое!P9) -> 1 | S9: =SUM(B9:R9) -> 21
A10: ГБУЗС "Городская инфекционная больница" | B10: =SUM('[1]Организация работы МО'!K10,'[1]Организация работы МО'!F10,'[1]Организация работы МО'!P10) -> 1 | C10: =SUM('[1]Запись к врачам'!F10,'[1]Запись к врачам'!K10,'[1]Запись к врачам'!P10) -> 0 | D10: =SUM('[1]Оформление док-ов'!F10,'[1]Оформление док-ов'!K10,'[1]Оформление док-ов'!P10) -> 0 | E10: =SUM('[1]Диспан-ия-Реаб-ия'!F10,'[1]Диспан-ия-Реаб-ия'!K10,'[1]Диспан-ия-Реаб-ия'!P10) -> 0 | F10: =SUM('[1]Долгое ожидание обслед-ий'!F10,'[1]Долгое ожидание обслед-ий'!K10,'[1]Долгое ожидание обслед-ий'!Q10) -> 0 | G10: =SUM('[1]Качество оказания мед. пом.'!F10,'[1]Качество оказания мед. пом.'!K10,'[1]Качество оказания мед. пом.'!Q10) -> 3 | H10: =SUM('[1]Отказ в оказ. мед. пом.'!F10,'[1]Отказ в оказ. мед. пом.'!K10,'[1]Отказ в оказ. мед. пом.'!Q10) -> 0 | I10: =SUM('[1]Недостат. инфы'!F10,'[1]Недостат. инфы'!K10,'[1]Недостат. инфы'!Q10) -> 0 | J10: =SUM('[1]Этика и деонтология'!F10,'[1]Этика и деонтология'!K10,'[1]Этика и деонтология'!Q10) -> 0 | K10: =SUM('[1]Трансп.доступность'!F10,'[1]Трансп.доступность'!K10,'[1]Трансп.доступность'!Q10) -> 0 | L10: =SUM('[1]Ремонт. Стройка'!F10,'[1]Ремонт. Стройка'!K10,'[1]Ремонт. Стройка'!Q10) -> 0 | M10: =SUM([1]Оборудование!F10,[1]Оборудование!K10,[1]Оборудование!Q10) -> 0 | N10: =SUM('[1]Лекарственное обеспечение'!F10,'[1]Лекарственное обеспечение'!K10,'[1]Лекарственное обеспечение'!P10) -> 0 | O10: =SUM([1]ВМП!F10,[1]ВМП!K10,[1]ВМП!Q10) -> 0 | P10: =SUM('[1]Кадры '!F10,'[1]Кадры '!K10,'[1]Кадры '!Q10) -> 0 | Q10: =SUM([1]Благодарности!F10,[1]Благодарности!K10,[1]Благодарности!P10) -> 2 | R10: =SUM([1]Другое!F10,[1]Другое!K10,[1]Другое!P10) -> 0 | S10: =SUM(B10:R10) -> 6
A11: ГБУЗС «Севастопольская городская психиатрическая больница» | B11: =SUM('[1]Организация работы МО'!K11,'[1]Организация работы МО'!F11,'[1]Организация работы МО'!P11) -> 5 | C11: =SUM('[1]Запись к врачам'!F11,'[1]Запись к врачам'!K11,'[1]Запись к врачам'!P11) -> 0 | D11: =SUM('[1]Оформление док-ов'!F11,'[1]Оформление док-ов'!K11,'[1]Оформление док-ов'!P11) -> 0 | E11: =SUM('[1]Диспан-ия-Реаб-ия'!F11,'[1]Диспан-ия-Реаб-ия'!K11,'[1]Диспан-ия-Реаб-ия'!P11) -> 0 | F11: =SUM('[1]Долгое ожидание обслед-ий'!F11,'[1]Долгое ожидание обслед-ий'!K11,'[1]Долгое ожидание обслед-ий'!Q11) -> 0 | G11: =SUM('[1]Качество оказания мед. пом.'!F11,'[1]Качество оказания мед. пом.'!K11,'[1]Качество оказания мед. пом.'!Q11) -> 0 | H11: =SUM('[1]Отказ в оказ. мед. пом.'!F11,'[1]Отказ в оказ. мед. пом.'!K11,'[1]Отказ в оказ. мед. пом.'!Q11) -> 1 | I11: =SUM('[1]Недостат. инфы'!F11,'[1]Недостат. инфы'!K11,'[1]Недостат. инфы'!Q11) -> 0 | J11: =SUM('[1]Этика и деонтология'!F11,'[1]Этика и деонтология'!K11,'[1]Этика и деонтология'!Q11) -> 0 | K11: =SUM('[1]Трансп.доступность'!F11,'[1]Трансп.доступность'!K11,'[1]Трансп.доступность'!Q11) -> 0 | L11: =SUM('[1]Ремонт. Стройка'!F11,'[1]Ремонт. Стройка'!K11,'[1]Ремонт. Стройка'!Q11) -> 0 | M11: =SUM([1]Оборудование!F11,[1]Оборудование!K11,[1]Оборудование!Q11) -> 0 | N11: =SUM('[1]Лекарственное обеспечение'!F11,'[1]Лекарственное обеспечение'!K11,'[1]Лекарственное обеспечение'!P11) -> 0 | O11: =SUM([1]ВМП!F11,[1]ВМП!K11,[1]ВМП!Q11) -> 0 | P11: =SUM('[1]Кадры '!F11,'[1]Кадры '!K11,'[1]Кадры '!Q11) -> 0 | Q11: =SUM([1]Благодарности!F11,[1]Благодарности!K11,[1]Благодарности!P11) -> 0 | R11: =SUM([1]Другое!F11,[1]Другое!K11,[1]Другое!P11) -> 0 | S11: =SUM(B11:R11) -> 6
A12: ГБУЗС «Севастопольский противотуберкулезный диспансер» | B12: =SUM('[1]Организация работы МО'!K12,'[1]Организация работы МО'!F12,'[1]Организация работы МО'!P12) -> 2 | C12: =SUM('[1]Запись к врачам'!F12,'[1]Запись к врачам'!K12,'[1]Запись к врачам'!P12) -> 0 | D12: =SUM('[1]Оформление док-ов'!F12,'[1]Оформление док-ов'!K12,'[1]Оформление док-ов'!P12) -> 0 | E12: =SUM('[1]Диспан-ия-Реаб-ия'!F12,'[1]Диспан-ия-Реаб-ия'!K12,'[1]Диспан-ия-Реаб-ия'!P12) -> 0 | F12: =SUM('[1]Долгое ожидание обслед-ий'!F12,'[1]Долгое ожидание обслед-ий'!K12,'[1]Долгое ожидание обслед-ий'!Q12) -> 0 | G12: =SUM('[1]Качество оказания мед. пом.'!F12,'[1]Качество оказания мед. пом.'!K12,'[1]Качество оказания мед. пом.'!Q12) -> 1 | H12: =SUM('[1]Отказ в оказ. мед. пом.'!F12,'[1]Отказ в оказ. мед. пом.'!K12,'[1]Отказ в оказ. мед. пом.'!Q12) -> 0 | I12: =SUM('[1]Недостат. инфы'!F12,'[1]Недостат. инфы'!K12,'[1]Недостат. инфы'!Q12) -> 0 | J12: =SUM('[1]Этика и деонтология'!F12,'[1]Этика и деонтология'!K12,'[1]Этика и деонтология'!Q12) -> 0 | K12: =SUM('[1]Трансп.доступность'!F12,'[1]Трансп.доступность'!K12,'[1]Трансп.доступность'!Q12) -> 0 | L12: =SUM('[1]Ремонт. Стройка'!F12,'[1]Ремонт. Стройка'!K12,'[1]Ремонт. Стройка'!Q12) -> 0 | M12: =SUM([1]Оборудование!F12,[1]Оборудование!K12,[1]Оборудование!Q12) -> 0 | N12: =SUM('[1]Лекарственное обеспечение'!F12,'[1]Лекарственное обеспечение'!K12,'[1]Лекарственное обеспечение'!P12) -> 0 | O12: =SUM([1]ВМП!F12,[1]ВМП!K12,[1]ВМП!Q12) -> 0 | P12: =SUM('[1]Кадры '!F12,'[1]Кадры '!K12,'[1]Кадры '!Q12) -> 0 | Q12: =SUM([1]Благодарности!F12,[1]Благодарности!K12,[1]Благодарности!P12) -> 0 | R12: =SUM([1]Другое!F12,[1]Другое!K12,[1]Другое!P12) -> 0 | S12: =SUM(B12:R12) -> 3
A13: ГБУЗС «Кожно-венерологический диспансер» | B13: =SUM('[1]Организация работы МО'!K13,'[1]Организация работы МО'!F13,'[1]Организация работы МО'!P13) -> 0 | C13: =SUM('[1]Запись к врачам'!F13,'[1]Запись к врачам'!K13,'[1]Запись к врачам'!P13) -> 0 | D13: =SUM('[1]Оформление док-ов'!F13,'[1]Оформление док-ов'!K13,'[1]Оформление док-ов'!P13) -> 0 | E13: =SUM('[1]Диспан-ия-Реаб-ия'!F13,'[1]Диспан-ия-Реаб-ия'!K13,'[1]Диспан-ия-Реаб-ия'!P13) -> 0 | F13: =SUM('[1]Долгое ожидание обслед-ий'!F13,'[1]Долгое ожидание обслед-ий'!K13,'[1]Долгое ожидание обслед-ий'!Q13) -> 0 | G13: =SUM('[1]Качество оказания мед. пом.'!F13,'[1]Качество оказания мед. пом.'!K13,'[1]Качество оказания мед. пом.'!Q13) -> 0 | H13: =SUM('[1]Отказ в оказ. мед. пом.'!F13,'[1]Отказ в оказ. мед. пом.'!K13,'[1]Отказ в оказ. мед. пом.'!Q13) -> 0 | I13: =SUM('[1]Недостат. инфы'!F13,'[1]Недостат. инфы'!K13,'[1]Недостат. инфы'!Q13) -> 0 | J13: =SUM('[1]Этика и деонтология'!F13,'[1]Этика и деонтология'!K13,'[1]Этика и деонтология'!Q13) -> 0 | K13: =SUM('[1]Трансп.доступность'!F13,'[1]Трансп.доступность'!K13,'[1]Трансп.доступность'!Q13) -> 0 | L13: =SUM('[1]Ремонт. Стройка'!F13,'[1]Ремонт. Стройка'!K13,'[1]Ремонт. Стройка'!Q13) -> 0 | M13: =SUM([1]Оборудование!F13,[1]Оборудование!K13,[1]Оборудование!Q13) -> 0 | N13: =SUM('[1]Лекарственное обеспечение'!F13,'[1]Лекарственное обеспечение'!K13,'[1]Лекарственное обеспечение'!P13) -> 0 | O13: =SUM([1]ВМП!F13,[1]ВМП!K13,[1]ВМП!Q13) -> 0 | P13: =SUM('[1]Кадры '!F13,'[1]Кадры '!K13,'[1]Кадры '!Q13) -> 0 | Q13: =SUM([1]Благодарности!F13,[1]Благодарности!K13,[1]Благодарности!P13) -> 0 | R13: =SUM([1]Другое!F13,[1]Другое!K13,[1]Другое!P13) -> 0 | S13: =SUM(B13:R13) -> 0
A14: ГБУЗС «Севастопольский городской онкологический диспансер имени А.А. Задорожного» | B14: =SUM('[1]Организация работы МО'!K14,'[1]Организация работы МО'!F14,'[1]Организация работы МО'!P14) -> 1 | C14: =SUM('[1]Запись к врачам'!F14,'[1]Запись к врачам'!K14,'[1]Запись к врачам'!P14) -> 0 | D14: =SUM('[1]Оформление док-ов'!F14,'[1]Оформление док-ов'!K14,'[1]Оформление док-ов'!P14) -> 0 | E14: =SUM('[1]Диспан-ия-Реаб-ия'!F14,'[1]Диспан-ия-Реаб-ия'!K14,'[1]Диспан-ия-Реаб-ия'!P14) -> 0 | F14: =SUM('[1]Долгое ожидание обслед-ий'!F14,'[1]Долгое ожидание обслед-ий'!K14,'[1]Долгое ожидание обслед-ий'!Q14) -> 0 | G14: =SUM('[1]Качество оказания мед. пом.'!F14,'[1]Качество оказания мед. пом.'!K14,'[1]Качество оказания мед. пом.'!Q14) -> 4 | H14: =SUM('[1]Отказ в оказ. мед. пом.'!F14,'[1]Отказ в оказ. мед. пом.'!K14,'[1]Отказ в оказ. мед. пом.'!Q14) -> 1 | I14: =SUM('[1]Недостат. инфы'!F14,'[1]Недостат. инфы'!K14,'[1]Недостат. инфы'!Q14) -> 0 | J14: =SUM('[1]Этика и деонтология'!F14,'[1]Этика и деонтология'!K14,'[1]Этика и деонтология'!Q14) -> 1 | K14: =SUM('[1]Трансп.доступность'!F14,'[1]Трансп.доступность'!K14,'[1]Трансп.доступность'!Q14) -> 0 | L14: =SUM('[1]Ремонт. Стройка'!F14,'[1]Ремонт. Стройка'!K14,'[1]Ремонт. Стройка'!Q14) -> 0 | M14: =SUM([1]Оборудование!F14,[1]Оборудование!K14,[1]Оборудование!Q14) -> 0 | N14: =SUM('[1]Лекарственное обеспечение'!F14,'[1]Лекарственное обеспечение'!K14,'[1]Лекарственное обеспечение'!P14) -> 0 | O14: =SUM([1]ВМП!F14,[1]ВМП!K14,[1]ВМП!Q14) -> 0 | P14: =SUM('[1]Кадры '!F14,'[1]Кадры '!K14,'[1]Кадры '!Q14) -> 0 | Q14: =SUM([1]Благодарности!F14,[1]Благодарности!K14,[1]Благодарности!P14) -> 1 | R14: =SUM([1]Другое!F14,[1]Другое!K14,[1]Другое!P14) -> 0 | S14: =SUM(B14:R14) -> 8
A15: ГБУЗС Врачебно-физкультурный диспансер» | B15: =SUM('[1]Организация работы МО'!K15,'[1]Организация работы МО'!F15,'[1]Организация работы МО'!P15) -> 0 | C15: =SUM('[1]Запись к врачам'!F15,'[1]Запись к врачам'!K15,'[1]Запись к врачам'!P15) -> 0 | D15: =SUM('[1]Оформление док-ов'!F15,'[1]Оформление док-ов'!K15,'[1]Оформление док-ов'!P15) -> 0 | E15: =SUM('[1]Диспан-ия-Реаб-ия'!F15,'[1]Диспан-ия-Реаб-ия'!K15,'[1]Диспан-ия-Реаб-ия'!P15) -> 0 | F15: =SUM('[1]Долгое ожидание обслед-ий'!F15,'[1]Долгое ожидание обслед-ий'!K15,'[1]Долгое ожидание обслед-ий'!Q15) -> 0 | G15: =SUM('[1]Качество оказания мед. пом.'!F15,'[1]Качество оказания мед. пом.'!K15,'[1]Качество оказания мед. пом.'!Q15) -> 0 | H15: =SUM('[1]Отказ в оказ. мед. пом.'!F15,'[1]Отказ в оказ. мед. пом.'!K15,'[1]Отказ в оказ. мед. пом.'!Q15) -> 0 | I15: =SUM('[1]Недостат. инфы'!F15,'[1]Недостат. инфы'!K15,'[1]Недостат. инфы'!Q15) -> 0 | J15: =SUM('[1]Этика и деонтология'!F15,'[1]Этика и деонтология'!K15,'[1]Этика и деонтология'!Q15) -> 0 | K15: =SUM('[1]Трансп.доступность'!F15,'[1]Трансп.доступность'!K15,'[1]Трансп.доступность'!Q15) -> 0 | L15: =SUM('[1]Ремонт. Стройка'!F15,'[1]Ремонт. Стройка'!K15,'[1]Ремонт. Стройка'!Q15) -> 0 | M15: =SUM([1]Оборудование!F15,[1]Оборудование!K15,[1]Оборудование!Q15) -> 0 | N15: =SUM('[1]Лекарственное обеспечение'!F15,'[1]Лекарственное обеспечение'!K15,'[1]Лекарственное обеспечение'!P15) -> 0 | O15: =SUM([1]ВМП!F15,[1]ВМП!K15,[1]ВМП!Q15) -> 0 | P15: =SUM('[1]Кадры '!F15,'[1]Кадры '!K15,'[1]Кадры '!Q15) -> 0 | Q15: =SUM([1]Благодарности!F15,[1]Благодарности!K15,[1]Благодарности!P15) -> 0 | R15: =SUM([1]Другое!F15,[1]Другое!K15,[1]Другое!P15) -> 0 | S15: =SUM(B15:R15) -> 0
... A28: Дом малютки | B28: =SUM('[1]Организация работы МО'!K28,'[1]Организация работы МО'!F28,'[1]Организация работы МО'!P28) -> 0 | C28: =SUM('[1]Запись к врачам'!F28,'[1]Запись к врачам'!K28,'[1]Запись к врачам'!P28) -> 0 | D28: =SUM('[1]Оформление док-ов'!F28,'[1]Оформление док-ов'!K28,'[1]Оформление док-ов'!P28) -> 0 | E28: =SUM('[1]Диспан-ия-Реаб-ия'!F28,'[1]Диспан-ия-Реаб-ия'!K28,'[1]Диспан-ия-Реаб-ия'!P28) -> 0 | F28: =SUM('[1]Долгое ожидание обслед-ий'!F28,'[1]Долгое ожидание обслед-ий'!K28,'[1]Долгое ожидание обслед-ий'!Q28) -> 0 | G28: =SUM('[1]Качество оказания мед. пом.'!F28,'[1]Качество оказания мед. пом.'!K28,'[1]Качество оказания мед. пом.'!Q28) -> 0 | H28: =SUM('[1]Отказ в оказ. мед. пом.'!F28,'[1]Отказ в оказ. мед. пом.'!K28,'[1]Отказ в оказ. мед. пом.'!Q28) -> 0 | I28: =SUM('[1]Недостат. инфы'!F28,'[1]Недостат. инфы'!K28,'[1]Недостат. инфы'!Q28) -> 0 | J28: =SUM('[1]Этика и деонтология'!F28,'[1]Этика и деонтология'!K28,'[1]Этика и деонтология'!Q28) -> 0 | K28: =SUM('[1]Трансп.доступность'!F28,'[1]Трансп.доступность'!K28,'[1]Трансп.доступность'!Q28) -> 0 | L28: =SUM('[1]Ремонт. Стройка'!F28,'[1]Ремонт. Стройка'!K28,'[1]Ремонт. Стройка'!Q28) -> 0 | M28: =SUM([1]Оборудование!F28,[1]Оборудование!K28,[1]Оборудование!Q28) -> 0 | N28: =SUM('[1]Лекарственное обеспечение'!F28,'[1]Лекарственное обеспечение'!K28,'[1]Лекарственное обеспечение'!P28) -> 0 | O28: =SUM([1]ВМП!F28,[1]ВМП!K28,[1]ВМП!Q28) -> 0 | P28: =SUM('[1]Кадры '!F28,'[1]Кадры '!K28,'[1]Кадры '!Q28) -> 0 | Q28: =SUM([1]Благодарности!F28,[1]Благодарности!K28,[1]Благодарности!P28) -> 0 | R28: =SUM([1]Другое!F28,[1]Другое!K28,[1]Другое!P28) -> 2 | S28: =SUM(B28:R28) -> 2
A29: Всего | B29: =SUM(B4:B28) -> 132 | C29: =SUM(C4:C28) -> 11 | D29: =SUM(D4:D28) -> 11 | E29: =SUM(E4:E28) -> 7 | F29: =SUM(F4:F28) -> 7 | G29: =SUM(G4:G28) -> 54 | H29: =SUM(H4:H28) -> 19 | I29: =SUM(I4:I28) -> 0 | ... R29: =SUM(R4:R28) -> 32 | S29: =SUM(B29:R29) -> 371
