Workbook

Sheet Свод
A1: Медицинская организация | B1: Организация работы МО | C1: Запись к врачам | D1: Оформление документов | E1: Диспансеризация/Реабилитация | F1: Долгое ожидание обследования | G1: Качество оказания МП | H1: Отказ в оказании МП | I1: Недоступность информации | J1: Этика и деонтология | K1: Транспортная доступность | L1: Ремонт/Строительство | M1: Оборудование | N1: Лекарственное обеспечение | O1: ВМП | P1: Кадры | Q1: Благодарности | R1: Другое | S1: Итого
A4: ГБУЗС «Городская больница № 1 им. Н.И. Пирогова» | B4: =SUM([1]Лист2!B2,[1]Лист3!B2,[1]Лист4!B2) -> 44 | C4: =SUM([1]Лист2!C2,[1]Лист3!C2,[1]Лист4!C2) -> 3 | D4: =SUM([1]Лист2!D2,[1]Лист3!D2,[1]Лист4!D2) -> 5 | E4: =SUM([1]Лист2!E2,[1]Лист3!E2,[1]Лист4!E2) -> 4 | F4: =SUM([1]Лист2!F2,[1]Лист3!F2,[1]Лист4!F2) -> 9 | G4: =SUM([1]Лист2!G2,[1]Лист3!G2,[1]Лист4!G2) -> 19 | H4: =SUM([1]Лист2!H2,[1]Лист3!H2,[1]Лист4!H2) -> 7 | I4: =SUM([1]Лист2!I2,[1]Лист3!I2,[1]Лист4!I2) -> 0 | ... K4: =SUM([1]Лист2!K2,[1]Лист3!K2,[1]Лист4!K2) -> 0 | L4: =SUM([1]Лист3!L2,[1]Лист3!L2,[1]Лист2!L2,[1]Лист4!L2) -> 0 | M4: =SUM([1]Лист2!M2,[1]Лист3!M2,[1]Лист4!M2) -> 1 | N4: =SUM([1]Лист2!N2,[1]Лист3!N2,[1]Лист4!N2) -> 2 | O4: =SUM([1]Лист2!O2,[1]Лист3!O2,[1]Лист4!O2) -> 0 | P4: =SUM([1]Лист2!P2,[1]Лист3!P2,[1]Лист4!P2) -> 0 | Q4: =SUM([1]Лист2!Q2,[1]Лист3!Q2,[1]Лист4!Q2) -> 6 | R4: =SUM([1]Лист2!R2,[1]Лист3!R2,[1]Лист4!R2) -> 1 | S4: =SUM(B4:R4) -> 103
A5: ГБУЗС «ГБ № 1» Филиал 1 | B5: =SUM([1]Лист2!B3,[1]Лист3!B3,[1]Лист4!B3) -> 9 | C5: =SUM([1]Лист2!C3,[1]Лист3!C3,[1]Лист4!C3) -> 0 | D5: =SUM([1]Лист2!D3,[1]Лист3!D3,[1]Лист4!D3) -> 0 | E5: =SUM([1]Лист2!E3,[1]Лист3!E3,[1]Лист4!E3) -> 4 | F5: =SUM([1]Лист2!F3,[1]Лист3!F3,[1]Лист4!F3) -> 1 | G5: =SUM([1]Лист2!G3,[1]Лист3!G3,[1]Лист4!G3) -> 0 | H5: =SUM([1]Лист2!H3,[1]Лист3!H3,[1]Лист4!H3) -> 0 | I5: =SUM([1]Лист2!I3,[1]Лист3!I3,[1]Лист4!I3) -> 0 | ... K5: =SUM([1]Лист2!K3,[1]Лист3!K3,[1]Лист4!K3) -> 0 | L5: =SUM([1]Лист3!L3,[1]Лист3!L3,[1]Лист2!L3,[1]Лист4!L3) -> 0 | M5: =SUM([1]Лист2!M3,[1]Лист3!M3,[1]Лист4!M3) -> 0 | N5: =SUM([1]Лист2!N3,[1]Лист3!N3,[1]Лист4!N3) -> 0 | O5: =SUM([1]Лист2!O3,[1]Лист3!O3,[1]Лист4!O3) -> 0 | P5: =SUM([1]Лист2!P3,[1]Лист3!P3,[1]Лист4!P3) -> 0 | Q5: =SUM([1]Лист2!Q3,[1]Лист3!Q3,[1]Лист4!Q3) -> 2 | R5: =SUM([1]Лист2!R3,[1]Лист3!R3,[1]Лист4!R3) -> 0 | S5: =SUM(B5:R5) -> 16
A6: ГБУЗС «Гб № 1» Филиал 2 | B6: =SUM([1]Лист2!B4,[1]Лист3!B4,[1]Лист4!B4) -> 7 | C6: =SUM([1]Лист2!C4,[1]Лист3!C4,[1]Лист4!C4) -> 0 | D6: =SUM([1]Лист2!D4,[1]Лист3!D4,[1]Лист4!D4) -> 1 | E6: =SUM([1]Лист2!E4,[1]Лист3!E4,[1]Лист4!E4) -> 2 | F6: =SUM([1]Лист2!F4,[1]Лист3!F4,[1]Лист4!F4) -> 0 | G6: =SUM([1]Лист2!G4,[1]Лист3!G4,[1]Лист4!G4) -> 1 | H6: =SUM([1]Лист2!H4,[1]Лист3!H4,[1]Лист4!H4) -> 0 | I6: =SUM([1]Лист2!I4,[1]Лист3!I4,[1]Лист4!I4) -> 0 | ... K6: =SUM([1]Лист2!K4,[1]Лист3!K4,[1]Лист4!K4) -> 0 | L6: =SUM([1]Лист3!L4,[1]Лист3!L4,[1]Лист2!L4,[1]Лист4!L4) -> 0 | M6: =SUM([1]Лист2!M4,[1]Лист3!M4,[1]Лист4!M4) -> 0 | N6: =SUM([1]Лист2!N4,[1]Лист3!N4,[1]Лист4!N4) -> 1 | O6: =SUM([1]Лист2!O4,[1]Лист3!O4,[1]Лист4!O4) -> 0 | P6: =SUM([1]Лист2!P4,[1]Лист3!P4,[1]Лист4!P4) -> 0 | Q6: =SUM([1]Лист2!Q4,[1]Лист3!Q4,[1]Лист4!Q4) -> 1 | R6: =SUM([1]Лист2!R4,[1]Лист3!R4,[1]Лист4!R4) -> 0 | S6: =SUM(B6:R6) -> 13
A7: ГБУЗС «Городская больница № 4» | B7: =SUM([1]Лист2!B5,[1]Лист3!B5,[1]Лист4!B5) -> 8 | C7: =SUM([1]Лист2!C5,[1]Лист3!C5,[1]Лист4!C5) -> 1 | D7: =SUM([1]Лист2!D5,[1]Лист3!D5,[1]Лист4!D5) -> 0 | E7: =SUM([1]Лист2!E5,[1]Лист3!E5,[1]Лист4!E5) -> 1 | F7: =SUM([1]Лист2!F5,[1]Лист3!F5,[1]Лист4!F5) -> 0 | G7: =SUM([1]Лист2!G5,[1]Лист3!G5,[1]Лист4!G5) -> 1 | H7: =SUM([1]Лист2!H5,[1]Лист3!H5,[1]Лист4!H5) -> 1 | I7: =SUM([1]Лист2!I5,[1]Лист3!I5,[1]Лист4!I5) -> 0 | ... K7: =SUM([1]Лист2!K5,[1]Лист3!K5,[1]Лист4!K5) -> 0 | L7: =SUM([1]Лист3!L5,[1]Лист3!L5,[1]Лист2!L5,[1]Лист4!L5) -> 0 | M7: =SUM([1]Лист2!M5,[1]Лист3!M5,[1]Лист4!M5) -> 0 | N7: =SUM([1]Лист2!N5,[1]Лист3!N5,[1]Лист4!N5) -> 0 | O7: =SUM([1]Лист2!O5,[1]Лист3!O5,[1]Лист4!O5) -> 0 | P7: =SUM([1]Лист2!P5,[1]Лист3!P5,[1]Лист4!P5) -> 0 | Q7: =SUM([1]Лист2!Q5,[1]Лист3!Q5,[1]Лист4!Q5) -> 0 | R7: =SUM([1]Лист2!R5,[1]Лист3!R5,[1]Лист4!R5) -> 1 | S7: =SUM(B7:R7) -> 14
A8: ГБУЗС «Городская больница № 5 – «Центр охраны здоровья матери и ребенка» | B8: =SUM([1]Лист2!B6,[1]Лист3!B6,[1]Лист4!B6) -> 20 | C8: =SUM([1]Лист2!C6,[1]Лист3!C6,[1]Лист4!C6) -> 3 | D8: =SUM([1]Лист2!D6,[1]Лист3!D6,[1]Лист4!D6) -> 2 | E8: =SUM([1]Лист2!E6,[1]Лист3!E6,[1]Лист4!E6) -> 0 | F8: =SUM([1]Лист2!F6,[1]Лист3!F6,[1]Лист4!F6) -> 0 | G8: =SUM([1]Лист2!G6,[1]Лист3!G6,[1]Лист4!G6) -> 12 | H8: =SUM([1]Лист2!H6,[1]Лист3!H6,[1]Лист4!H6) -> 11 | I8: =SUM([1]Лист2!I6,[1]Лист3!I6,[1]Лист4!I6) -> 0 | ... K8: =SUM([1]Лист2!K6,[1]Лист3!K6,[1]Лист4!K6) -> 1 | L8: =SUM([1]Лист3!L6,[1]Лист3!L6,[1]Лист2!L6,[1]Лист4!L6) -> 0 | M8: =SUM([1]Лист2!M6,[1]Лист3!M6,[1]Лист4!M6) -> 0 | N8: =SUM([1]Лист2!N6,[1]Лист3!N6,[1]Лист4!N6) -> 0 | O8: =SUM([1]Лист2!O6,[1]Лист3!O6,[1]Лист4!O6) -> 0 | P8: =SUM([1]Лист2!P6,[1]Лист3!P6,[1]Лист4!P6) -> 0 | Q8: =SUM([1]Лист2!Q6,[1]Лист3!Q6,[1]Лист4!Q6) -> 2 | R8: =SUM([1]Лист2!R6,[1]Лист3!R6,[1]Лист4!R6) -> 5 | S8: =SUM(B8:R8) -> 59
A9: ГБУЗС "Севастопольская городская больница № 9" | B9: =SUM([1]Лист2!B7,[1]Лист3!B7,[1]Лист4!B7) -> 11 | C9: =SUM([1]Лист2!C7,[1]Лист3!C7,[1]Лист4!C7) -> 1 | D9: =SUM([1]Лист2!D7,[1]Лист3!D7,[1]Лист4!D7) -> 2 | E9: =SUM([1]Лист2!E7,[1]Лист3!E7,[1]Лист4!E7) -> 1 | F9: =SUM([1]Лист2!F7,[1]Лист3!F7,[1]Лист4!F7) -> 0 | G9: =SUM([1]Лист2!G7,[1]Лист3!G7,[1]Лист4!G7) -> 2 | H9: =SUM([1]Лист2!H7,[1]Лист3!H7,[1]Лист4!H7) -> 1 | I9: =SUM([1]Лист2!I7,[1]Лист3!I7,[1]Лист4!I7) -> 0 | ... K9: =SUM([1]Лист2!K7,[1]Лист3!K7,[1]Лист4!K7) -> 0 | L9: =SUM([1]Лист3!L7,[1]Лист3!L7,[1]Лист2!L7,[1]Лист4!L7) -> 0 | M9: =SUM([1]Лист2!M7,[1]Лист3!M7,[1]Лист4!M7) -> 0 | N9: =SUM([1]Лист2!N7,[1]Лист3!N7,[1]Лист4!N7) -> 1 | O9: =SUM([1]Лист2!O7,[1]Лист3!O7,[1]Лист4!O7) -> 0 | P9: =SUM([1]Лист2!P7,[1]Лист3!P7,[1]Лист4!P7) -> 0 | Q9: =SUM([1]Лист2!Q7,[1]Лист3!Q7,[1]Лист4!Q7) -> 11 | R9: =SUM([1]Лист2!R7,[1]Лист3!R7,[1]Лист4!R7) -> 0 | S9: =SUM(B9:R9) -> 30
A10: ГБУЗС "Городская инфекционная больница" | B10: =SUM([1]Лист2!B8,[1]Лист3!B8,[1]Лист4!B8) -> 5 | C10: =SUM([1]Лист2!C8,[1]Лист3!C8,[1]Лист4!C8) -> 0 | D10: =SUM([1]Лист2!D8,[1]Лист3!D8,[1]Лист4!D8) -> 0 | E10: =SUM([1]Лист2!E8,[1]Лист3!E8,[1]Лист4!E8) -> 0 | F10: =SUM([1]Лист2!F8,[1]Лист3!F8,[1]Лист4!F8) -> 0 | G10: =SUM([1]Лист2!G8,[1]Лист3!G8,[1]Лист4!G8) -> 4 | H10: =SUM([1]Лист2!H8,[1]Лист3!H8,[1]Лист4!H8) -> 0 | I10: =SUM([1]Лист2!I8,[1]Лист3!I8,[1]Лист4!I8) -> 0 | ... K10: =SUM([1]Лист2!K8,[1]Лист3!K8,[1]Лист4!K8) -> 0 | L10: =SUM([1]Лист3!L8,[1]Лист3!L8,[1]Лист2!L8,[1]Лист4!L8) -> 0 | M10: =SUM([1]Лист2!M8,[1]Лист3!M8,[1]Лист4!M8) -> 0 | N10: =SUM([1]Лист2!N8,[1]Лист3!N8,[1]Лист4!N8) -> 0 | O10: =SUM([1]Лист2!O8,[1]Лист3!O8,[1]Лист4!O8) -> 0 | P10: =SUM([1]Лист2!P8,[1]Лист3!P8,[1]Лист4!P8) -> 0 | Q10: =SUM([1]Лист2!Q8,[1]Лист3!Q8,[1]Лист4!Q8) -> 1 | R10: =SUM([1]Лист2!R8,[1]Лист3!R8,[1]Лист4!R8) -> 0 | S10: =SUM(B10:R10) -> 10
A11: ГБУЗС «Севастопольская городская психиатрическая больница» | B11: =SUM([1]Лист2!B9,[1]Лист3!B9,[1]Лист4!B9) -> 9 | C11: =SUM([1]Лист2!C9,[1]Лист3!C9,[1]Лист4!C9) -> 0 | D11: =SUM([1]Лист2!D9,[1]Лист3!D9,[1]Лист4!D9) -> 0 | E11: =SUM([1]Лист2!E9,[1]Лист3!E9,[1]Лист4!E9) -> 0 | F11: =SUM([1]Лист2!F9,[1]Лист3!F9,[1]Лист4!F9) -> 0 | G11: =SUM([1]Лист2!G9,[1]Лист3!G9,[1]Лист4!G9) -> 0 | H11: =SUM([1]Лист2!H9,[1]Лист3!H9,[1]Лист4!H9) -> 0 | I11: =SUM([1]Лист2!I9,[1]Лист3!I9,[1]Лист4!I9) -> 0 | ... K11: =SUM([1]Лист2!K9,[1]Лист3!K9,[1]Лист4!K9) -> 0 | L11: =SUM([1]Лист3!L9,[1]Лист3!L9,[1]Лист2!L9,[1]Лист4!L9) -> 0 | M11: =SUM([1]Лист2!M9,[1]Лист3!M9,[1]Лист4!M9) -> 0 | N11: =SUM([1]Лист2!N9,[1]Лист3!N9,[1]Лист4!N9) -> 0 | O11: =SUM([1]Лист2!O9,[1]Лист3!O9,[1]Лист4!O9) -> 0 | P11: =SUM([1]Лист2!P9,[1]Лист3!P9,[1]Лист4!P9) -> 0 | Q11: =SUM([1]Лист2!Q9,[1]Лист3!Q9,[1]Лист4!Q9) -> 0 | R11: =SUM([1]Лист2!R9,[1]Лист3!R9,[1]Лист4!R9) -> 1 | S11: =SUM(B11:R11) -> 10
A12: ГБУЗС «Севастопольский противотуберкулезный диспансер» | B12: =SUM([1]Лист2!B10,[1]Лист3!B10,[1]Лист4!B10) -> 5 | C12: =SUM([1]Лист2!C10,[1]Лист3!C10,[1]Лист4!C10) -> 0 | D12: =SUM([1]Лист2!D10,[1]Лист3!D10,[1]Лист4!D10) -> 0 | E12: =SUM([1]Лист2!E10,[1]Лист3!E10,[1]Лист4!E10) -> 0 | F12: =SUM([1]Лист2!F10,[1]Лист3!F10,[1]Лист4!F10) -> 0 | G12: =SUM([1]Лист2!G10,[1]Лист3!G10,[1]Лист4!G10) -> 1 | H12: =SUM([1]Лист2!H10,[1]Лист3!H10,[1]Лист4!H10) -> 0 | I12: =SUM([1]Лист2!I10,[1]Лист3!I10,[1]Лист4!I10) -> 0 | ... K12: =SUM([1]Лист2!K10,[1]Лист3!K10,[1]Лист4!K10) -> 0 | L12: =SUM([1]Лист3!L10,[1]Лист3!L10,[1]Лист2!L10,[1]Лист4!L10) -> 0 | M12: =SUM([1]Лист2!M10,[1]Лист3!M10,[1]Лист4!M10) -> 0 | N12: =SUM([1]Лист2!N10,[1]Лист3!N10,[1]Лист4!N10) -> 0 | O12: =SUM([1]Лист2!O10,[1]Лист3!O10,[1]Лист4!O10) -> 0 | P12: =SUM([1]Лист2!P10,[1]Лист3!P10,[1]Лист4!P10) -> 0 | Q12: =SUM([1]Лист2!Q10,[1]Лист3!Q10,[1]Лист4!Q10) -> 0 | R12: =SUM([1]Лист2!R10,[1]Лист3!R10,[1]Лист4!R10) -> 1 | S12: =SUM(B12:R12) -> 7
A13: ГБУЗС «Кожно-венерологический диспансер» | B13: =SUM([1]Лист2!B11,[1]Лист3!B11,[1]Лист4!B11) -> 2 | C13: =SUM([1]Лист2!C11,[1]Лист3!C11,[1]Лист4!C11) -> 0 | D13: =SUM([1]Лист2!D11,[1]Лист3!D11,[1]Лист4!D11) -> 0 | E13: =SUM([1]Лист2!E11,[1]Лист3!E11,[1]Лист4!E11) -> 0 | F13: =SUM([1]Лист2!F11,[1]Лист3!F11,[1]Лист4!F11) -> 0 | G13: =SUM([1]Лист2!G11,[1]Лист3!G11,[1]Лист4!G11) -> 0 | H13: =SUM([1]Лист2!H11,[1]Лист3!H11,[1]Лист4!H11) -> 0 | I13: =SUM([1]Лист2!I11,[1]Лист3!I11,[1]Лист4!I11) -> 0 | ... K13: =SUM([1]Лист2!K11,[1]Лист3!K11,[1]Лист4!K11) -> 0 | L13: =SUM([1]Лист3!L11,[1]Лист3!L11,[1]Лист2!L11,[1]Лист4!L11) -> 0 | M13: =SUM([1]Лист2!M11,[1]Лист3!M11,[1]Лист4!M11) -> 0 | N13: =SUM([1]Лист2!N11,[1]Лист3!N11,[1]Лист4!N11) -> 0 | O13: =SUM([1]Лист2!O11,[1]Лист3!O11,[1]Лист4!O11) -> 0 | P13: =SUM([1]Лист2!P11,[1]Лист3!P11,[1]Лист4!P11) -> 0 | Q13: =SUM([1]Лист2!Q11,[1]Лист3!Q11,[1]Лист4!Q11) -> 0 | R13: =SUM([1]Лист2!R11,[1]Лист3!R11,[1]Лист4!R11) -> 0 | S13: =SUM(B13:R13) -> 2
A14: ГБУЗС «Севастопольский городской онкологический диспансер имени А.А. Задорожного» | B14: =SUM([1]Лист2!B12,[1]Лист3!B12,[1]Лист4!B12) -> 1 | C14: =SUM([1]Лист2!C12,[1]Лист3!C12,[1]Лист4!C12) -> 0 | D14: =SUM([1]Лист2!D12,[1]Лист3!D12,[1]Лист4!D12) -> 0 | E14: =SUM([1]Лист2!E12,[1]Лист3!E12,[1]Лист4!E12) -> 0 | F14: =SUM([1]Лист2!F12,[1]Лист3!F12,[1]Лист4!F12) -> 2 | G14: =SUM([1]Лист2!G12,[1]Лист3!G12,[1]Лист4!G12) -> 0 | H14: =SUM([1]Лист2!H12,[1]Лист3!H12,[1]Лист4!H12) -> 1 | I14: =SUM([1]Лист2!I12,[1]Лист3!I12,[1]Лист4!I12) -> 0 | ... K14: =SUM([1]Лист2!K12,[1]Лист3!K12,[1]Лист4!K12) -> 0 | L14: =SUM([1]Лист3!L12,[1]Лист3!L12,[1]Лист2!L12,[1]Лист4!L12) -> 0 | M14: =SUM([1]Лист2!M12,[1]Лист3!M12,[1]Лист4!M12) -> 0 | N14: =SUM([1]Лист2!N12,[1]Лист3!N12,[1]Лист4!N12) -> 1 | O14: =SUM([1]Лист2!O12,[1]Лист3!O12,[1]Лист4!O12) -> 0 | P14: =SUM([1]Лист2!P12,[1]Лист3!P12,[1]Лист4!P12) -> 0 | Q14: =SUM([1]Лист2!Q12,[1]Лист3!Q12,[1]Лист4!Q12) -> 0 | R14: =SUM([1]Лист2!R12,[1]Лист3!R12,[1]Лист4!R12) -> 0 | S14: =SUM(B14:R14) -> 5
A15: ГБУЗС Врачебно-физкультурный диспансер» | B15: =SUM([1]Лист2!B13,[1]Лист3!B13,[1]Лист4!B13) -> 0 | C15: =SUM([1]Лист2!C13,[1]Лист3!C13,[1]Лист4!C13) -> 0 | D15: =SUM([1]Лист2!D13,[1]Лист3!D13,[1]Лист4!D13) -> 0 | E15: =SUM([1]Лист2!E13,[1]Лист3!E13,[1]Лист4!E13) -> 0 | F15: =SUM([1]Лист2!F13,[1]Лист3!F13,[1]Лист4!F13) -> 0 | G15: =SUM([1]Лист2!G13,[1]Лист3!G13,[1]Лист4!G13) -> 0 | H15: =SUM([1]Лист2!H13,[1]Лист3!H13,[1]Лист4!H13) -> 0 | I15: =SUM([1]Лист2!I13,[1]Лист3!I13,[1]Лист4!I13) -> 0 | ... K15: =SUM([1]Лист2!K13,[1]Лист3!K13,[1]Лист4!K13) -> 0 | L15: =SUM([1]Лист3!L13,[1]Лист3!L13,[1]Лист2!L13,[1]Лист4!L13) -> 0 | M15: =SUM([1]Лист2!M13,[1]Лист3!M13,[1]Лист4!M13) -> 0 | N15: =SUM([1]Лист2!N13,[1]Лист3!N13,[1]Лист4!N13) -> 0 | O15: =SUM([1]Лист2!O13,[1]Лист3!O13,[1]Лист4!O13) -> 0 | P15: =SUM([1]Лист2!P13,[1]Лист3!P13,[1]Лист4!P13) -> 0 | Q15: =SUM([1]Лист2!Q13,[1]Лист3!Q13,[1]Лист4!Q13) -> 1 | R15: =SUM([1]Лист2!R13,[1]Лист3!R13,[1]Лист4!R13) -> 0 | S15: =SUM(B15:R15) -> 1
... A28: Дом малютки | B28: =SUM([1]Лист2!B26,[1]Лист3!B26,[1]Лист4!B26) -> 1 | C28: =SUM([1]Лист2!C26,[1]Лист3!C26,[1]Лист4!C26) -> 0 | D28: =SUM([1]Лист2!D26,[1]Лист3!D26,[1]Лист4!D26) -> 0 | E28: =SUM([1]Лист2!E26,[1]Лист3!E26,[1]Лист4!E26) -> 0 | F28: =SUM([1]Лист2!F26,[1]Лист3!F26,[1]Лист4!F26) -> 0 | G28: =SUM([1]Лист2!G26,[1]Лист3!G26,[1]Лист4!G26) -> 0 | H28: =SUM([1]Лист2!H26,[1]Лист3!H26,[1]Лист4!H26) -> 0 | I28: =SUM([1]Лист2!I26,[1]Лист3!I26,[1]Лист4!I26) -> 0 | ... K28: =SUM([1]Лист2!K26,[1]Лист3!K26,[1]Лист4!K26) -> 0 | L28: =SUM([1]Лист3!L26,[1]Лист3!L26,[1]Лист2!L26,[1]Лист4!L26) -> 0 | M28: =SUM([1]Лист2!M26,[1]Лист3!M26,[1]Лист4!M26) -> 0 | N28: =SUM([1]Лист2!N26,[1]Лист3!N26,[1]Лист4!N26) -> 0 | O28: =SUM([1]Лист2!O26,[1]Лист3!O26,[1]Лист4!O26) -> 0 | P28: =SUM([1]Лист2!P26,[1]Лист3!P26,[1]Лист4!P26) -> 0 | Q28: =SUM([1]Лист2!Q26,[1]Лист3!Q26,[1]Лист4!Q26) -> 0 | R28: =SUM([1]Лист2!R26,[1]Лист3!R26,[1]Лист4!R26) -> 0 | S28: =SUM(B28:R28) -> 1
A29: Всего | B29: =SUM(B4:B28) -> 165 | C29: =SUM(C4:C28) -> 9 | D29: =SUM(D4:D28) -> 12 | E29: =SUM(E4:E28) -> 12 | F29: =SUM(F4:F28) -> 12 | G29: =SUM(G4:G28) -> 43 | H29: =SUM(H4:H28) -> 22 | I29: =SUM(I4:I28) -> 1 | ... R29: =SUM(R4:R28) -> 39 | S29: =SUM(B29:R29) -> 393
